BEGIN:VCALENDAR
VERSION:2.0
PRODID:-//Mercator-Gymnasium - ECPv6.15.20//NONSGML v1.0//EN
CALSCALE:GREGORIAN
METHOD:PUBLISH
X-ORIGINAL-URL:https://mercator-gymnasium.de
X-WR-CALDESC:Veranstaltungen für Mercator-Gymnasium
REFRESH-INTERVAL;VALUE=DURATION:PT1H
X-Robots-Tag:noindex
X-PUBLISHED-TTL:PT1H
BEGIN:VTIMEZONE
TZID:Europe/Berlin
BEGIN:DAYLIGHT
TZOFFSETFROM:+0100
TZOFFSETTO:+0200
TZNAME:CEST
DTSTART:20250330T010000
END:DAYLIGHT
BEGIN:STANDARD
TZOFFSETFROM:+0200
TZOFFSETTO:+0100
TZNAME:CET
DTSTART:20251026T010000
END:STANDARD
BEGIN:DAYLIGHT
TZOFFSETFROM:+0100
TZOFFSETTO:+0200
TZNAME:CEST
DTSTART:20260329T010000
END:DAYLIGHT
BEGIN:STANDARD
TZOFFSETFROM:+0200
TZOFFSETTO:+0100
TZNAME:CET
DTSTART:20261025T010000
END:STANDARD
BEGIN:DAYLIGHT
TZOFFSETFROM:+0100
TZOFFSETTO:+0200
TZNAME:CEST
DTSTART:20270328T010000
END:DAYLIGHT
BEGIN:STANDARD
TZOFFSETFROM:+0200
TZOFFSETTO:+0100
TZNAME:CET
DTSTART:20271031T010000
END:STANDARD
END:VTIMEZONE
BEGIN:VEVENT
DTSTART;VALUE=DATE:20260202
DTEND;VALUE=DATE:20260214
DTSTAMP:20260424T120431
CREATED:20251104T133510Z
LAST-MODIFIED:20260213T173507Z
UID:23853-1769990400-1771027199@mercator-gymnasium.de
SUMMARY:Jg. 10: Berufspraktikum
DESCRIPTION:
URL:https://mercator-gymnasium.de/event/jg-10-berufspraktikum/
END:VEVENT
BEGIN:VEVENT
DTSTART;TZID=Europe/Berlin:20260202T120000
DTEND;TZID=Europe/Berlin:20260202T170000
DTSTAMP:20260424T120431
CREATED:20260118T160509Z
LAST-MODIFIED:20260201T170509Z
UID:24133-1770033600-1770051600@mercator-gymnasium.de
SUMMARY:Zeugniskonferenzen (Unterricht in Kurzstunden bis 11:30 Uhr)
DESCRIPTION:
URL:https://mercator-gymnasium.de/event/zeugniskonferenzen-unterricht-in-kurzstunden-bis-1130-uhr-2/
END:VEVENT
BEGIN:VEVENT
DTSTART;TZID=Europe/Berlin:20260203T120000
DTEND;TZID=Europe/Berlin:20260203T170000
DTSTAMP:20260424T120431
CREATED:20260118T160509Z
LAST-MODIFIED:20260202T172013Z
UID:24132-1770120000-1770138000@mercator-gymnasium.de
SUMMARY:Zeugniskonferenzen (Unterricht in Kurzstunden bis 11:30 Uhr)
DESCRIPTION:
URL:https://mercator-gymnasium.de/event/zeugniskonferenzen-unterricht-in-kurzstunden-bis-1130-uhr/
END:VEVENT
BEGIN:VEVENT
DTSTART;VALUE=DATE:20260205
DTEND;VALUE=DATE:20260206
DTSTAMP:20260424T120431
CREATED:20251107T133507Z
LAST-MODIFIED:20260205T172014Z
UID:23882-1770249600-1770335999@mercator-gymnasium.de
SUMMARY:"Jugend debattiert" Schulfinale
DESCRIPTION:
URL:https://mercator-gymnasium.de/event/jugend-debattiert-schulfinale-4/
END:VEVENT
BEGIN:VEVENT
DTSTART;TZID=Europe/Berlin:20260206T095000
DTEND;TZID=Europe/Berlin:20260206T155000
DTSTAMP:20260424T120431
CREATED:20251108T133507Z
LAST-MODIFIED:20260205T172014Z
UID:23888-1770371400-1770393000@mercator-gymnasium.de
SUMMARY:Zeugnisausgabe 3. Std. (Jg. 5-Q1); anschließend unterrichtsfrei
DESCRIPTION:
URL:https://mercator-gymnasium.de/event/zeugnisausgabe-3-std-jg-5-q1-anschliessend-unterrichtsfrei/
END:VEVENT
BEGIN:VEVENT
DTSTART;VALUE=DATE:20260209
DTEND;VALUE=DATE:20260212
DTSTAMP:20260424T120431
CREATED:20251111T133510Z
LAST-MODIFIED:20260211T172008Z
UID:23909-1770595200-1770854399@mercator-gymnasium.de
SUMMARY:Jahrgangstage
DESCRIPTION:
URL:https://mercator-gymnasium.de/event/jahrgangstage/
END:VEVENT
BEGIN:VEVENT
DTSTART;VALUE=DATE:20260212
DTEND;VALUE=DATE:20260214
DTSTAMP:20260424T120431
CREATED:20251114T133508Z
LAST-MODIFIED:20260213T173507Z
UID:23923-1770854400-1771027199@mercator-gymnasium.de
SUMMARY:Projekttage zum Schuljubiläum
DESCRIPTION:
URL:https://mercator-gymnasium.de/event/projekttage-zum-schuljubilaeum/
END:VEVENT
BEGIN:VEVENT
DTSTART;VALUE=DATE:20260216
DTEND;VALUE=DATE:20260217
DTSTAMP:20260424T120431
CREATED:20251118T133506Z
LAST-MODIFIED:20260216T175007Z
UID:23950-1771200000-1771286399@mercator-gymnasium.de
SUMMARY:Rosenmontag
DESCRIPTION:
URL:https://mercator-gymnasium.de/event/rosenmontag/
END:VEVENT
BEGIN:VEVENT
DTSTART;VALUE=DATE:20260217
DTEND;VALUE=DATE:20260218
DTSTAMP:20260424T120431
CREATED:20251119T133510Z
LAST-MODIFIED:20260217T175009Z
UID:23953-1771286400-1771372799@mercator-gymnasium.de
SUMMARY:unterrrichtsfreier Ausgleichstag für Tag der offenen Tür
DESCRIPTION:
URL:https://mercator-gymnasium.de/event/unterrrichtsfreier-ausgleichstag-fuer-tag-der-offenen-tuer/
END:VEVENT
BEGIN:VEVENT
DTSTART;VALUE=DATE:20260219
DTEND;VALUE=DATE:20260220
DTSTAMP:20260424T120431
CREATED:20251128T135010Z
LAST-MODIFIED:20260219T175011Z
UID:23978-1771459200-1771545599@mercator-gymnasium.de
SUMMARY:Vorabi LK hauseigen
DESCRIPTION:
URL:https://mercator-gymnasium.de/event/vorabi-lk-hauseigen/
END:VEVENT
BEGIN:VEVENT
DTSTART;TZID=Europe/Berlin:20260223T140000
DTEND;TZID=Europe/Berlin:20260223T170000
DTSTAMP:20260424T120431
CREATED:20260222T175007Z
LAST-MODIFIED:20260222T175009Z
UID:24263-1771855200-1771866000@mercator-gymnasium.de
SUMMARY:Beratungsnachmittag Lern- und Förderempfehlungen
DESCRIPTION:
URL:https://mercator-gymnasium.de/event/beratungsnachmittag-lern-und-foerderempfehlungen/
END:VEVENT
BEGIN:VEVENT
DTSTART;TZID=Europe/Berlin:20260223T170000
DTEND;TZID=Europe/Berlin:20260223T190000
DTSTAMP:20260424T120431
CREATED:20260120T160510Z
LAST-MODIFIED:20260222T175009Z
UID:24141-1771866000-1771873200@mercator-gymnasium.de
SUMMARY:Schulpflegschaftsabend Inklusion
DESCRIPTION:
URL:https://mercator-gymnasium.de/event/schulpflegschaftsabend-inklusion/
END:VEVENT
BEGIN:VEVENT
DTSTART;VALUE=DATE:20260227
DTEND;VALUE=DATE:20260228
DTSTAMP:20260424T120431
CREATED:20251122T133511Z
LAST-MODIFIED:20260227T182015Z
UID:23958-1772150400-1772236799@mercator-gymnasium.de
SUMMARY:Vorabi LK Koop
DESCRIPTION:
URL:https://mercator-gymnasium.de/event/vorabi-lk-koop/
END:VEVENT
END:VCALENDAR