BEGIN:VCALENDAR
VERSION:2.0
PRODID:-//Mercator-Gymnasium - ECPv6.15.20//NONSGML v1.0//EN
CALSCALE:GREGORIAN
METHOD:PUBLISH
X-WR-CALNAME:Mercator-Gymnasium
X-ORIGINAL-URL:https://mercator-gymnasium.de
X-WR-CALDESC:Veranstaltungen für Mercator-Gymnasium
REFRESH-INTERVAL;VALUE=DURATION:PT1H
X-Robots-Tag:noindex
X-PUBLISHED-TTL:PT1H
BEGIN:VTIMEZONE
TZID:Europe/Berlin
BEGIN:DAYLIGHT
TZOFFSETFROM:+0100
TZOFFSETTO:+0200
TZNAME:CEST
DTSTART:20250330T010000
END:DAYLIGHT
BEGIN:STANDARD
TZOFFSETFROM:+0200
TZOFFSETTO:+0100
TZNAME:CET
DTSTART:20251026T010000
END:STANDARD
BEGIN:DAYLIGHT
TZOFFSETFROM:+0100
TZOFFSETTO:+0200
TZNAME:CEST
DTSTART:20260329T010000
END:DAYLIGHT
BEGIN:STANDARD
TZOFFSETFROM:+0200
TZOFFSETTO:+0100
TZNAME:CET
DTSTART:20261025T010000
END:STANDARD
BEGIN:DAYLIGHT
TZOFFSETFROM:+0100
TZOFFSETTO:+0200
TZNAME:CEST
DTSTART:20270328T010000
END:DAYLIGHT
BEGIN:STANDARD
TZOFFSETFROM:+0200
TZOFFSETTO:+0100
TZNAME:CET
DTSTART:20271031T010000
END:STANDARD
END:VTIMEZONE
BEGIN:VEVENT
DTSTART;TZID=Europe/Berlin:20260116T132000
DTEND;TZID=Europe/Berlin:20260116T140000
DTSTAMP:20260424T131755
CREATED:20251018T123507Z
LAST-MODIFIED:20260115T160510Z
UID:23781-1768569600-1768572000@mercator-gymnasium.de
SUMMARY:Ausgabe der Laufbahnbescheinigungen Q2
DESCRIPTION:
URL:https://mercator-gymnasium.de/event/ausgabe-der-laufbahnbescheinigungen-q2/
END:VEVENT
BEGIN:VEVENT
DTSTART;VALUE=DATE:20260126
DTEND;VALUE=DATE:20260127
DTSTAMP:20260424T131755
CREATED:20251028T132019Z
LAST-MODIFIED:20260126T163516Z
UID:23818-1769385600-1769471999@mercator-gymnasium.de
SUMMARY:Jugend debattiert - Qualifikationsrunde
DESCRIPTION:
URL:https://mercator-gymnasium.de/event/jugend-debattiert-qualifikationsrunde-2/
END:VEVENT
BEGIN:VEVENT
DTSTART;TZID=Europe/Berlin:20260130T143000
DTEND;TZID=Europe/Berlin:20260130T163000
DTSTAMP:20260424T131755
CREATED:20251101T133510Z
LAST-MODIFIED:20260129T170511Z
UID:23842-1769783400-1769790600@mercator-gymnasium.de
SUMMARY:(neue) Klasse 5: Informations- und Profilnachmittag (Aufbau ab 13:30 Uhr)
DESCRIPTION:
URL:https://mercator-gymnasium.de/event/neue-klasse-5-informations-und-profilnachmittag-aufbau-ab-1330-uhr/
END:VEVENT
END:VCALENDAR