BEGIN:VCALENDAR
VERSION:2.0
PRODID:-//Mercator-Gymnasium - ECPv6.15.20//NONSGML v1.0//EN
CALSCALE:GREGORIAN
METHOD:PUBLISH
X-ORIGINAL-URL:https://mercator-gymnasium.de
X-WR-CALDESC:Veranstaltungen für Mercator-Gymnasium
REFRESH-INTERVAL;VALUE=DURATION:PT1H
X-Robots-Tag:noindex
X-PUBLISHED-TTL:PT1H
BEGIN:VTIMEZONE
TZID:Europe/Berlin
BEGIN:DAYLIGHT
TZOFFSETFROM:+0100
TZOFFSETTO:+0200
TZNAME:CEST
DTSTART:20240331T010000
END:DAYLIGHT
BEGIN:STANDARD
TZOFFSETFROM:+0200
TZOFFSETTO:+0100
TZNAME:CET
DTSTART:20241027T010000
END:STANDARD
BEGIN:DAYLIGHT
TZOFFSETFROM:+0100
TZOFFSETTO:+0200
TZNAME:CEST
DTSTART:20250330T010000
END:DAYLIGHT
BEGIN:STANDARD
TZOFFSETFROM:+0200
TZOFFSETTO:+0100
TZNAME:CET
DTSTART:20251026T010000
END:STANDARD
BEGIN:DAYLIGHT
TZOFFSETFROM:+0100
TZOFFSETTO:+0200
TZNAME:CEST
DTSTART:20260329T010000
END:DAYLIGHT
BEGIN:STANDARD
TZOFFSETFROM:+0200
TZOFFSETTO:+0100
TZNAME:CET
DTSTART:20261025T010000
END:STANDARD
END:VTIMEZONE
BEGIN:VEVENT
DTSTART;VALUE=DATE:20251103
DTEND;VALUE=DATE:20251106
DTSTAMP:20260424T162340
CREATED:20250823T075014Z
LAST-MODIFIED:20251105T133509Z
UID:23541-1762128000-1762387199@mercator-gymnasium.de
SUMMARY:Jgst. 7: Klassenfahrt
DESCRIPTION:
URL:https://mercator-gymnasium.de/event/jgst-7-klassenfahrt/
END:VEVENT
BEGIN:VEVENT
DTSTART;VALUE=DATE:20251108
DTEND;VALUE=DATE:20251109
DTSTAMP:20260424T162340
CREATED:20250810T072009Z
LAST-MODIFIED:20251108T133507Z
UID:23476-1762560000-1762646399@mercator-gymnasium.de
SUMMARY:Tag der offenen Tür
DESCRIPTION:
URL:https://mercator-gymnasium.de/event/tag-der-offenen-tuer-8/
END:VEVENT
BEGIN:VEVENT
DTSTART;TZID=Europe/Berlin:20251121T150000
DTEND;TZID=Europe/Berlin:20251121T190000
DTSTAMP:20260424T162340
CREATED:20250823T075014Z
LAST-MODIFIED:20251121T133509Z
UID:23542-1763737200-1763751600@mercator-gymnasium.de
SUMMARY:Elternsprechtag
DESCRIPTION:
URL:https://mercator-gymnasium.de/event/elternsprechtag-12/
END:VEVENT
BEGIN:VEVENT
DTSTART;VALUE=DATE:20251126
DTEND;VALUE=DATE:20251127
DTSTAMP:20260424T162340
CREATED:20250929T112007Z
LAST-MODIFIED:20251126T135009Z
UID:23723-1764115200-1764201599@mercator-gymnasium.de
SUMMARY:Jg. 6: Vorlesewettbewerb (Aula - ganztägig)
DESCRIPTION:
URL:https://mercator-gymnasium.de/event/jg-6-vorlesewettbewerb-aula-ganztaegig/
END:VEVENT
END:VCALENDAR