BEGIN:VCALENDAR
VERSION:2.0
PRODID:-//Mercator-Gymnasium - ECPv6.15.20//NONSGML v1.0//EN
CALSCALE:GREGORIAN
METHOD:PUBLISH
X-ORIGINAL-URL:https://mercator-gymnasium.de
X-WR-CALDESC:Veranstaltungen für Mercator-Gymnasium
REFRESH-INTERVAL;VALUE=DURATION:PT1H
X-Robots-Tag:noindex
X-PUBLISHED-TTL:PT1H
BEGIN:VTIMEZONE
TZID:Europe/Berlin
BEGIN:DAYLIGHT
TZOFFSETFROM:+0100
TZOFFSETTO:+0200
TZNAME:CEST
DTSTART:20240331T010000
END:DAYLIGHT
BEGIN:STANDARD
TZOFFSETFROM:+0200
TZOFFSETTO:+0100
TZNAME:CET
DTSTART:20241027T010000
END:STANDARD
BEGIN:DAYLIGHT
TZOFFSETFROM:+0100
TZOFFSETTO:+0200
TZNAME:CEST
DTSTART:20250330T010000
END:DAYLIGHT
BEGIN:STANDARD
TZOFFSETFROM:+0200
TZOFFSETTO:+0100
TZNAME:CET
DTSTART:20251026T010000
END:STANDARD
BEGIN:DAYLIGHT
TZOFFSETFROM:+0100
TZOFFSETTO:+0200
TZNAME:CEST
DTSTART:20260329T010000
END:DAYLIGHT
BEGIN:STANDARD
TZOFFSETFROM:+0200
TZOFFSETTO:+0100
TZNAME:CET
DTSTART:20261025T010000
END:STANDARD
END:VTIMEZONE
BEGIN:VEVENT
DTSTART;VALUE=DATE:20250901
DTEND;VALUE=DATE:20250902
DTSTAMP:20260424T191118
CREATED:20250812T072117Z
LAST-MODIFIED:20250901T082011Z
UID:23481-1756684800-1756771199@mercator-gymnasium.de
SUMMARY:Beginn des Nachmittagsunterrichts
DESCRIPTION:
URL:https://mercator-gymnasium.de/event/beginn-des-nachmittagsunterrichts-4/
END:VEVENT
BEGIN:VEVENT
DTSTART;TZID=Europe/Berlin:20250901T140000
DTEND;TZID=Europe/Berlin:20250901T153000
DTSTAMP:20260424T191118
CREATED:20250812T072117Z
LAST-MODIFIED:20250901T082011Z
UID:23482-1756735200-1756740600@mercator-gymnasium.de
SUMMARY:Beginn der Kurbel-Nachmittagsbetreuung
DESCRIPTION:
URL:https://mercator-gymnasium.de/event/beginn-der-kurbel-nachmittagsbetreuung-2/
END:VEVENT
BEGIN:VEVENT
DTSTART;TZID=Europe/Berlin:20250908T180000
DTEND;TZID=Europe/Berlin:20250908T193000
DTSTAMP:20260424T191118
CREATED:20250610T063508Z
LAST-MODIFIED:20250908T083509Z
UID:23247-1757354400-1757359800@mercator-gymnasium.de
SUMMARY:EF-Pflegschaft (Aula)
DESCRIPTION:
URL:https://mercator-gymnasium.de/event/ef-pflegschaft-aula-3/
END:VEVENT
BEGIN:VEVENT
DTSTART;TZID=Europe/Berlin:20250908T180000
DTEND;TZID=Europe/Berlin:20250908T200000
DTSTAMP:20260424T191118
CREATED:20250814T072008Z
LAST-MODIFIED:20250908T083509Z
UID:23491-1757354400-1757361600@mercator-gymnasium.de
SUMMARY:Q1+Q2-Pflegschaft (Bio-/Kunst-Raum)
DESCRIPTION:
URL:https://mercator-gymnasium.de/event/q1q2-pflegschaft-bio-kunst-raum-2/
END:VEVENT
BEGIN:VEVENT
DTSTART;VALUE=DATE:20250910
DTEND;VALUE=DATE:20250913
DTSTAMP:20260424T191118
CREATED:20250612T063507Z
LAST-MODIFIED:20250912T085008Z
UID:23251-1757462400-1757721599@mercator-gymnasium.de
SUMMARY:Jg. EF Integrationsfahrt (10.-12-09.)
DESCRIPTION:
URL:https://mercator-gymnasium.de/event/jg-ef-integrationsfahrt-10-12-09/
END:VEVENT
BEGIN:VEVENT
DTSTART;TZID=Europe/Berlin:20250911T160000
DTEND;TZID=Europe/Berlin:20250911T170000
DTSTAMP:20260424T191118
CREATED:20250619T193647Z
LAST-MODIFIED:20250911T083508Z
UID:23291-1757606400-1757610000@mercator-gymnasium.de
SUMMARY:Klasse 5: Elterncafe
DESCRIPTION:
URL:https://mercator-gymnasium.de/event/klasse-5-elterncafe-2/
END:VEVENT
BEGIN:VEVENT
DTSTART;TZID=Europe/Berlin:20250911T170000
DTEND;TZID=Europe/Berlin:20250911T180000
DTSTAMP:20260424T191118
CREATED:20250619T193659Z
LAST-MODIFIED:20250911T083509Z
UID:23293-1757610000-1757613600@mercator-gymnasium.de
SUMMARY:Klasse 5: Profilvorstellung (Aula)+Pflegschaften
DESCRIPTION:
URL:https://mercator-gymnasium.de/event/klasse-5-profilvorstellung-aulapflegschaften-2/
END:VEVENT
BEGIN:VEVENT
DTSTART;TZID=Europe/Berlin:20250911T180000
DTEND;TZID=Europe/Berlin:20250911T190000
DTSTAMP:20260424T191118
CREATED:20250619T193659Z
LAST-MODIFIED:20250911T083509Z
UID:23292-1757613600-1757617200@mercator-gymnasium.de
SUMMARY:6er-Pflegschaften
DESCRIPTION:
URL:https://mercator-gymnasium.de/event/6er-pflegschaften-4/
END:VEVENT
BEGIN:VEVENT
DTSTART;TZID=Europe/Berlin:20250914T110000
DTEND;TZID=Europe/Berlin:20250914T120000
DTSTAMP:20260424T191118
CREATED:20250616T065157Z
LAST-MODIFIED:20250914T090507Z
UID:23266-1757847600-1757851200@mercator-gymnasium.de
SUMMARY:Mercator-Ehemaligentreff
DESCRIPTION:
URL:https://mercator-gymnasium.de/event/mercator-ehemaligentreff/
END:VEVENT
BEGIN:VEVENT
DTSTART;VALUE=DATE:20250915
DTEND;VALUE=DATE:20250917
DTSTAMP:20260424T191118
CREATED:20250818T073622Z
LAST-MODIFIED:20250916T090511Z
UID:23518-1757894400-1758067199@mercator-gymnasium.de
SUMMARY:Jg.5 Integrationsfahrt - 2 Klassen (5a & 5c)
DESCRIPTION:
URL:https://mercator-gymnasium.de/event/jg-5-integrationsfahrt-2-klassen-5a-5c/
END:VEVENT
BEGIN:VEVENT
DTSTART;VALUE=DATE:20250915
DTEND;VALUE=DATE:20250919
DTSTAMP:20260424T191118
CREATED:20250820T073511Z
LAST-MODIFIED:20250918T090510Z
UID:23534-1757894400-1758239999@mercator-gymnasium.de
SUMMARY:Externen-Abitur: Zeitraum 2. Prüfungsteil (mdl.)
DESCRIPTION:
URL:https://mercator-gymnasium.de/event/externen-abitur-zeitraum-2-pruefungsteil-mdl/
END:VEVENT
BEGIN:VEVENT
DTSTART;TZID=Europe/Berlin:20250915T170000
DTEND;TZID=Europe/Berlin:20250915T180000
DTSTAMP:20260424T191118
CREATED:20250619T193647Z
LAST-MODIFIED:20250915T090509Z
UID:23290-1757955600-1757959200@mercator-gymnasium.de
SUMMARY:8er-Pflegschaft (Start: Aula\, Information zur Potenzialanalyse\, dann: Klassenräume)
DESCRIPTION:
URL:https://mercator-gymnasium.de/event/8er-pflegschaft-start-aula-information-zur-potenzialanalyse-dann-klassenraeume-3/
END:VEVENT
BEGIN:VEVENT
DTSTART;TZID=Europe/Berlin:20250915T180000
DTEND;TZID=Europe/Berlin:20250915T190000
DTSTAMP:20260424T191118
CREATED:20250619T193647Z
LAST-MODIFIED:20250915T090509Z
UID:23289-1757959200-1757962800@mercator-gymnasium.de
SUMMARY:7+9+10er-Pflegschaften
DESCRIPTION:
URL:https://mercator-gymnasium.de/event/7910er-pflegschaften-2/
END:VEVENT
BEGIN:VEVENT
DTSTART;TZID=Europe/Berlin:20250917T153000
DTEND;TZID=Europe/Berlin:20250917T170000
DTSTAMP:20260424T191118
CREATED:20250905T083511Z
LAST-MODIFIED:20250917T090505Z
UID:23617-1758123000-1758128400@mercator-gymnasium.de
SUMMARY:2. Sitzung Arbeitskreis Handynutzung (digital)
DESCRIPTION:
URL:https://mercator-gymnasium.de/event/2-sitzung-arbeitskreis-handynutzung-digital/
END:VEVENT
BEGIN:VEVENT
DTSTART;VALUE=DATE:20250918
DTEND;VALUE=DATE:20250919
DTSTAMP:20260424T191118
CREATED:20250620T015011Z
LAST-MODIFIED:20250918T090510Z
UID:23301-1758153600-1758239999@mercator-gymnasium.de
SUMMARY:EF Campus-Tag Uni DU(-Essen)
DESCRIPTION:
URL:https://mercator-gymnasium.de/event/ef-campus-tag-uni-du-essen/
END:VEVENT
BEGIN:VEVENT
DTSTART;VALUE=DATE:20250918
DTEND;VALUE=DATE:20250920
DTSTAMP:20260424T191118
CREATED:20250818T073634Z
LAST-MODIFIED:20250919T090507Z
UID:23519-1758153600-1758326399@mercator-gymnasium.de
SUMMARY:Jg.5 Integrationsfahrt - 2 Klassen (5b & 5d)
DESCRIPTION:
URL:https://mercator-gymnasium.de/event/jg-5-integrationsfahrt-2-klassen-5b-5d/
END:VEVENT
BEGIN:VEVENT
DTSTART;TZID=Europe/Berlin:20250919T114500
DTEND;TZID=Europe/Berlin:20250919T131000
DTSTAMP:20260424T191118
CREATED:20250812T072129Z
LAST-MODIFIED:20250918T090510Z
UID:23483-1758282300-1758287400@mercator-gymnasium.de
SUMMARY:Schülerratssitzung (Aula) / Wahlen Schülersprecher*in und Team
DESCRIPTION:
URL:https://mercator-gymnasium.de/event/schuelerratssitzung-aula-wahlen-schuelersprecherin-und-team-4/
END:VEVENT
BEGIN:VEVENT
DTSTART;TZID=Europe/Berlin:20250922T180000
DTEND;TZID=Europe/Berlin:20250922T200000
DTSTAMP:20260424T191118
CREATED:20250823T075014Z
LAST-MODIFIED:20250922T110510Z
UID:23540-1758564000-1758571200@mercator-gymnasium.de
SUMMARY:Schulpflegschaftssitzung
DESCRIPTION:
URL:https://mercator-gymnasium.de/event/schulpflegschaftssitzung-2/
END:VEVENT
BEGIN:VEVENT
DTSTART;TZID=Europe/Berlin:20250923T080000
DTEND;TZID=Europe/Berlin:20250923T093000
DTSTAMP:20260424T191118
CREATED:20250919T090507Z
LAST-MODIFIED:20250919T090507Z
UID:23683-1758614400-1758619800@mercator-gymnasium.de
SUMMARY:Schülerratssitzung (Aula) / Wahlen Schülersprecher*in und Team
DESCRIPTION:
URL:https://mercator-gymnasium.de/event/schuelerratssitzung-aula-wahlen-schuelersprecherin-und-team-5/
END:VEVENT
BEGIN:VEVENT
DTSTART;TZID=Europe/Berlin:20250923T080000
DTEND;TZID=Europe/Berlin:20250923T093000
DTSTAMP:20260424T191118
CREATED:20250919T090507Z
LAST-MODIFIED:20250922T110510Z
UID:23684-1758614400-1758619800@mercator-gymnasium.de
SUMMARY:Schülerratssitzung (Aula) / Wahlen Schülersprecher*in und Team
DESCRIPTION:
URL:https://mercator-gymnasium.de/event/schuelerratssitzung-aula-wahlen-schuelersprecherin-und-team-6/
END:VEVENT
BEGIN:VEVENT
DTSTART;TZID=Europe/Berlin:20250930T180000
DTEND;TZID=Europe/Berlin:20250930T190000
DTSTAMP:20260424T191118
CREATED:20250812T072129Z
LAST-MODIFIED:20250930T112010Z
UID:23484-1759255200-1759258800@mercator-gymnasium.de
SUMMARY:1. Schulkonferenz
DESCRIPTION:
URL:https://mercator-gymnasium.de/event/1-schulkonferenz-2/
END:VEVENT
END:VCALENDAR