BEGIN:VCALENDAR
VERSION:2.0
PRODID:-//Mercator-Gymnasium - ECPv6.15.20//NONSGML v1.0//EN
CALSCALE:GREGORIAN
METHOD:PUBLISH
X-WR-CALNAME:Mercator-Gymnasium
X-ORIGINAL-URL:https://mercator-gymnasium.de
X-WR-CALDESC:Veranstaltungen für Mercator-Gymnasium
REFRESH-INTERVAL;VALUE=DURATION:PT1H
X-Robots-Tag:noindex
X-PUBLISHED-TTL:PT1H
BEGIN:VTIMEZONE
TZID:Europe/Berlin
BEGIN:DAYLIGHT
TZOFFSETFROM:+0100
TZOFFSETTO:+0200
TZNAME:CEST
DTSTART:20240331T010000
END:DAYLIGHT
BEGIN:STANDARD
TZOFFSETFROM:+0200
TZOFFSETTO:+0100
TZNAME:CET
DTSTART:20241027T010000
END:STANDARD
BEGIN:DAYLIGHT
TZOFFSETFROM:+0100
TZOFFSETTO:+0200
TZNAME:CEST
DTSTART:20250330T010000
END:DAYLIGHT
BEGIN:STANDARD
TZOFFSETFROM:+0200
TZOFFSETTO:+0100
TZNAME:CET
DTSTART:20251026T010000
END:STANDARD
BEGIN:DAYLIGHT
TZOFFSETFROM:+0100
TZOFFSETTO:+0200
TZNAME:CEST
DTSTART:20260329T010000
END:DAYLIGHT
BEGIN:STANDARD
TZOFFSETFROM:+0200
TZOFFSETTO:+0100
TZNAME:CET
DTSTART:20261025T010000
END:STANDARD
END:VTIMEZONE
BEGIN:VEVENT
DTSTART;TZID=Europe/Berlin:20250701T095000
DTEND;TZID=Europe/Berlin:20250701T131000
DTSTAMP:20260424T215411
CREATED:20250402T230507Z
LAST-MODIFIED:20250701T050744Z
UID:22870-1751363400-1751375400@mercator-gymnasium.de
SUMMARY:Jg.5: Verkehrserziehung\, Hr. Weitzel
DESCRIPTION:
URL:https://mercator-gymnasium.de/event/jg-5-verkehrserziehung-hr-weitzel/
END:VEVENT
BEGIN:VEVENT
DTSTART;TZID=Europe/Berlin:20250703T095000
DTEND;TZID=Europe/Berlin:20250703T112000
DTSTAMP:20260424T215411
CREATED:20250404T230511Z
LAST-MODIFIED:20250703T050510Z
UID:22876-1751536200-1751541600@mercator-gymnasium.de
SUMMARY:Jg.5: Verkehrserziehung\, Hr. Weitzel
DESCRIPTION:
URL:https://mercator-gymnasium.de/event/jg-5-verkehrserziehung-hr-weitzel-2/
END:VEVENT
BEGIN:VEVENT
DTSTART;TZID=Europe/Berlin:20250705T100000
DTEND;TZID=Europe/Berlin:20250705T120000
DTSTAMP:20260424T215411
CREATED:20250406T230511Z
LAST-MODIFIED:20250705T050736Z
UID:22886-1751709600-1751716800@mercator-gymnasium.de
SUMMARY:Abizeugnisausgabe
DESCRIPTION:
URL:https://mercator-gymnasium.de/event/abizeugnisausgabe-2/
END:VEVENT
BEGIN:VEVENT
DTSTART;VALUE=DATE:20250707
DTEND;VALUE=DATE:20250712
DTSTAMP:20260424T215411
CREATED:20250408T230506Z
LAST-MODIFIED:20250711T052013Z
UID:22891-1751846400-1752278399@mercator-gymnasium.de
SUMMARY:Klassenfahrt 10 (Zeugnisausgabe Fr.Nachmittag)
DESCRIPTION:
URL:https://mercator-gymnasium.de/event/klassenfahrt-10-zeugnisausgabe-fr-nachmittag/
END:VEVENT
BEGIN:VEVENT
DTSTART;TZID=Europe/Berlin:20250707T150000
DTEND;TZID=Europe/Berlin:20250707T180000
DTSTAMP:20260424T215411
CREATED:20250408T230506Z
LAST-MODIFIED:20250707T052009Z
UID:22890-1751900400-1751911200@mercator-gymnasium.de
SUMMARY:Kennenlernnachmittag neue 5 (mit Elterncafé)
DESCRIPTION:
URL:https://mercator-gymnasium.de/event/kennenlernnachmittag-neue-5-mit-elterncafe-3/
END:VEVENT
BEGIN:VEVENT
DTSTART;TZID=Europe/Berlin:20250707T163000
DTEND;TZID=Europe/Berlin:20250707T173000
DTSTAMP:20260424T215411
CREATED:20250619T193635Z
LAST-MODIFIED:20250707T052009Z
UID:23288-1751905800-1751909400@mercator-gymnasium.de
SUMMARY:Schulfotograf für Neue 5
DESCRIPTION:
URL:https://mercator-gymnasium.de/event/schulfotograf-fuer-neue-5/
END:VEVENT
BEGIN:VEVENT
DTSTART;TZID=Europe/Berlin:20250710T100000
DTEND;TZID=Europe/Berlin:20250710T140000
DTSTAMP:20260424T215411
CREATED:20250411T230511Z
LAST-MODIFIED:20250710T052015Z
UID:22909-1752141600-1752156000@mercator-gymnasium.de
SUMMARY:SV-Sommerfest (Aufbau ab der 3. Std.; der Nachmittagsunterricht entfällt)
DESCRIPTION:
URL:https://mercator-gymnasium.de/event/sv-sommerfest-aufbau-ab-der-3-std-der-nachmittagsunterricht-entfaellt/
END:VEVENT
BEGIN:VEVENT
DTSTART;TZID=Europe/Berlin:20250710T130000
DTEND;TZID=Europe/Berlin:20250710T160000
DTSTAMP:20260424T215411
CREATED:20250411T230511Z
LAST-MODIFIED:20250710T052015Z
UID:22908-1752152400-1752163200@mercator-gymnasium.de
SUMMARY:Kollegiumskonferenz (Beginn: nach Abbau des Sommerfestes)
DESCRIPTION:
URL:https://mercator-gymnasium.de/event/kollegiumskonferenz-beginn-nach-abbau-des-sommerfestes/
END:VEVENT
BEGIN:VEVENT
DTSTART;TZID=Europe/Berlin:20250711T080000
DTEND;TZID=Europe/Berlin:20250711T093000
DTSTAMP:20260424T215411
CREATED:20250412T230548Z
LAST-MODIFIED:20250711T052013Z
UID:22913-1752220800-1752226200@mercator-gymnasium.de
SUMMARY:1./2. Std. Mercator Sauber-Zauber
DESCRIPTION:
URL:https://mercator-gymnasium.de/event/1-2-std-mercator-sauber-zauber-3/
END:VEVENT
BEGIN:VEVENT
DTSTART;TZID=Europe/Berlin:20250711T100000
DTEND;TZID=Europe/Berlin:20250711T110000
DTSTAMP:20260424T215411
CREATED:20250412T230548Z
LAST-MODIFIED:20250711T052013Z
UID:22914-1752228000-1752231600@mercator-gymnasium.de
SUMMARY:Zeugnisausgabe in der 3. Std. (5-Q1)
DESCRIPTION:
URL:https://mercator-gymnasium.de/event/zeugnisausgabe-in-der-3-std-5-q1-2/
END:VEVENT
END:VCALENDAR