BEGIN:VCALENDAR
VERSION:2.0
PRODID:-//Mercator-Gymnasium - ECPv6.15.20//NONSGML v1.0//EN
CALSCALE:GREGORIAN
METHOD:PUBLISH
X-WR-CALNAME:Mercator-Gymnasium
X-ORIGINAL-URL:https://mercator-gymnasium.de
X-WR-CALDESC:Veranstaltungen für Mercator-Gymnasium
REFRESH-INTERVAL;VALUE=DURATION:PT1H
X-Robots-Tag:noindex
X-PUBLISHED-TTL:PT1H
BEGIN:VTIMEZONE
TZID:Europe/Berlin
BEGIN:DAYLIGHT
TZOFFSETFROM:+0100
TZOFFSETTO:+0200
TZNAME:CEST
DTSTART:20240331T010000
END:DAYLIGHT
BEGIN:STANDARD
TZOFFSETFROM:+0200
TZOFFSETTO:+0100
TZNAME:CET
DTSTART:20241027T010000
END:STANDARD
BEGIN:DAYLIGHT
TZOFFSETFROM:+0100
TZOFFSETTO:+0200
TZNAME:CEST
DTSTART:20250330T010000
END:DAYLIGHT
BEGIN:STANDARD
TZOFFSETFROM:+0200
TZOFFSETTO:+0100
TZNAME:CET
DTSTART:20251026T010000
END:STANDARD
BEGIN:DAYLIGHT
TZOFFSETFROM:+0100
TZOFFSETTO:+0200
TZNAME:CEST
DTSTART:20260329T010000
END:DAYLIGHT
BEGIN:STANDARD
TZOFFSETFROM:+0200
TZOFFSETTO:+0100
TZNAME:CET
DTSTART:20261025T010000
END:STANDARD
END:VTIMEZONE
BEGIN:VEVENT
DTSTART;VALUE=DATE:20250602
DTEND;VALUE=DATE:20250603
DTSTAMP:20260424T231006
CREATED:20250304T202006Z
LAST-MODIFIED:20250602T062011Z
UID:22694-1748822400-1748908799@mercator-gymnasium.de
SUMMARY:2./3. Berufsfelderkundung für Jg. 8/9
DESCRIPTION:
URL:https://mercator-gymnasium.de/event/2-3-berufsfelderkundung-fuer-jg-8-9/
END:VEVENT
BEGIN:VEVENT
DTSTART;VALUE=DATE:20250602
DTEND;VALUE=DATE:20250603
DTSTAMP:20260424T231006
CREATED:20250513T053508Z
LAST-MODIFIED:20250602T062011Z
UID:22989-1748822400-1748908799@mercator-gymnasium.de
SUMMARY:Abiturprüfungen (4. Fach)\, unterrichtsfrei Jg. 5-Q1 (aber 8+9: Berufsfelderkundung)
DESCRIPTION:
URL:https://mercator-gymnasium.de/event/abiturpruefungen-4-fach-unterrichtsfrei-jg-5-q1/
END:VEVENT
BEGIN:VEVENT
DTSTART;VALUE=DATE:20250603
DTEND;VALUE=DATE:20250604
DTSTAMP:20260424T231006
CREATED:20250305T202007Z
LAST-MODIFIED:20250603T062015Z
UID:22697-1748908800-1748995199@mercator-gymnasium.de
SUMMARY:ZP 10 - Englisch
DESCRIPTION:
URL:https://mercator-gymnasium.de/event/zp-10-englisch/
END:VEVENT
BEGIN:VEVENT
DTSTART;VALUE=DATE:20250604
DTEND;VALUE=DATE:20250605
DTSTAMP:20260424T231006
CREATED:20250306T202006Z
LAST-MODIFIED:20250604T062006Z
UID:22702-1748995200-1749081599@mercator-gymnasium.de
SUMMARY:EF ZK D
DESCRIPTION:
URL:https://mercator-gymnasium.de/event/ef-zk-d/
END:VEVENT
BEGIN:VEVENT
DTSTART;VALUE=DATE:20250605
DTEND;VALUE=DATE:20250606
DTSTAMP:20260424T231006
CREATED:20250307T202006Z
LAST-MODIFIED:20250605T062009Z
UID:22707-1749081600-1749167999@mercator-gymnasium.de
SUMMARY:ZP 10 - Mathematik
DESCRIPTION:
URL:https://mercator-gymnasium.de/event/zp-10-mathematik/
END:VEVENT
BEGIN:VEVENT
DTSTART;VALUE=DATE:20250612
DTEND;VALUE=DATE:20250613
DTSTAMP:20260424T231006
CREATED:20250314T212016Z
LAST-MODIFIED:20250612T063506Z
UID:22743-1749686400-1749772799@mercator-gymnasium.de
SUMMARY:EF ZK M
DESCRIPTION:
URL:https://mercator-gymnasium.de/event/ef-zk-m/
END:VEVENT
BEGIN:VEVENT
DTSTART;TZID=Europe/Berlin:20250613T080000
DTEND;TZID=Europe/Berlin:20250613T110000
DTSTAMP:20260424T231006
CREATED:20250524T060508Z
LAST-MODIFIED:20250613T063508Z
UID:23080-1749801600-1749812400@mercator-gymnasium.de
SUMMARY:Ergebnismitteilung - schriftliche Abiturergebnisse (Aula)
DESCRIPTION:
URL:https://mercator-gymnasium.de/event/ergebnismitteilung-schriftliche-abiturergebnisse-aula/
END:VEVENT
BEGIN:VEVENT
DTSTART;VALUE=DATE:20250616
DTEND;VALUE=DATE:20250617
DTSTAMP:20260424T231006
CREATED:20250318T215020Z
LAST-MODIFIED:20250616T065338Z
UID:22763-1750032000-1750118399@mercator-gymnasium.de
SUMMARY:EF ZK D (NT)
DESCRIPTION:
URL:https://mercator-gymnasium.de/event/ef-zk-d-nt/
END:VEVENT
BEGIN:VEVENT
DTSTART;VALUE=DATE:20250618
DTEND;VALUE=DATE:20250619
DTSTAMP:20260424T231006
CREATED:20250320T220506Z
LAST-MODIFIED:20250616T065338Z
UID:22780-1750204800-1750291199@mercator-gymnasium.de
SUMMARY:EF ZK M (NT)
DESCRIPTION:
URL:https://mercator-gymnasium.de/event/ef-zk-m-nt/
END:VEVENT
BEGIN:VEVENT
DTSTART;VALUE=DATE:20250620
DTEND;VALUE=DATE:20250621
DTSTAMP:20260424T231006
CREATED:20250322T220532Z
LAST-MODIFIED:20250620T015011Z
UID:22793-1750377600-1750463999@mercator-gymnasium.de
SUMMARY:beweglicher Ferientag
DESCRIPTION:
URL:https://mercator-gymnasium.de/event/beweglicher-ferientag-8/
END:VEVENT
BEGIN:VEVENT
DTSTART;VALUE=DATE:20250624
DTEND;VALUE=DATE:20250627
DTSTAMP:20260424T231006
CREATED:20250507T052013Z
LAST-MODIFIED:20250626T050510Z
UID:22971-1750723200-1750982399@mercator-gymnasium.de
SUMMARY:Abitur 1.-3. Fach
DESCRIPTION:
URL:https://mercator-gymnasium.de/event/abitur-1-3-fach/
END:VEVENT
END:VCALENDAR