BEGIN:VCALENDAR
VERSION:2.0
PRODID:-//Mercator-Gymnasium - ECPv6.15.20//NONSGML v1.0//EN
CALSCALE:GREGORIAN
METHOD:PUBLISH
X-ORIGINAL-URL:https://mercator-gymnasium.de
X-WR-CALDESC:Veranstaltungen für Mercator-Gymnasium
REFRESH-INTERVAL;VALUE=DURATION:PT1H
X-Robots-Tag:noindex
X-PUBLISHED-TTL:PT1H
BEGIN:VTIMEZONE
TZID:UTC
BEGIN:STANDARD
TZOFFSETFROM:+0000
TZOFFSETTO:+0000
TZNAME:UTC
DTSTART:20230101T000000
END:STANDARD
END:VTIMEZONE
BEGIN:VTIMEZONE
TZID:Europe/Berlin
BEGIN:DAYLIGHT
TZOFFSETFROM:+0100
TZOFFSETTO:+0200
TZNAME:CEST
DTSTART:20230326T010000
END:DAYLIGHT
BEGIN:STANDARD
TZOFFSETFROM:+0200
TZOFFSETTO:+0100
TZNAME:CET
DTSTART:20231029T010000
END:STANDARD
BEGIN:DAYLIGHT
TZOFFSETFROM:+0100
TZOFFSETTO:+0200
TZNAME:CEST
DTSTART:20240331T010000
END:DAYLIGHT
BEGIN:STANDARD
TZOFFSETFROM:+0200
TZOFFSETTO:+0100
TZNAME:CET
DTSTART:20241027T010000
END:STANDARD
BEGIN:DAYLIGHT
TZOFFSETFROM:+0100
TZOFFSETTO:+0200
TZNAME:CEST
DTSTART:20250330T010000
END:DAYLIGHT
BEGIN:STANDARD
TZOFFSETFROM:+0200
TZOFFSETTO:+0100
TZNAME:CET
DTSTART:20251026T010000
END:STANDARD
END:VTIMEZONE
BEGIN:VEVENT
DTSTART;VALUE=DATE:20240908
DTEND;VALUE=DATE:20240909
DTSTAMP:20260424T094652
CREATED:20240808T130110Z
LAST-MODIFIED:20240808T130110Z
UID:21696-1725753600-1725839999@mercator-gymnasium.de
SUMMARY:11 Uhr: Mercator-Ehemaligen-Treff
DESCRIPTION:
URL:https://mercator-gymnasium.de/event/11-uhr-mercator-ehemaligen-treff/
END:VEVENT
BEGIN:VEVENT
DTSTART;TZID=Europe/Berlin:20240909T180000
DTEND;TZID=Europe/Berlin:20240909T193000
DTSTAMP:20260424T094652
CREATED:20240808T102047Z
LAST-MODIFIED:20240909T103519Z
UID:21684-1725904800-1725910200@mercator-gymnasium.de
SUMMARY:EF-Pflegschaft (Aula)
DESCRIPTION:
URL:https://mercator-gymnasium.de/event/ef-pflegschaft-aula-2/
END:VEVENT
BEGIN:VEVENT
DTSTART;TZID=Europe/Berlin:20240909T180000
DTEND;TZID=Europe/Berlin:20240909T200000
DTSTAMP:20260424T094652
CREATED:20240808T102047Z
LAST-MODIFIED:20240909T103519Z
UID:21685-1725904800-1725912000@mercator-gymnasium.de
SUMMARY:Q1+Q2-Pflegschaft (Bio-/Kunst-Raum)
DESCRIPTION:
URL:https://mercator-gymnasium.de/event/q1q2-pflegschaft-bio-kunst-raum/
END:VEVENT
BEGIN:VEVENT
DTSTART;TZID=Europe/Berlin:20240910T160000
DTEND;TZID=Europe/Berlin:20240910T172000
DTSTAMP:20260424T094652
CREATED:20240808T102047Z
LAST-MODIFIED:20240910T103509Z
UID:21686-1725984000-1725988800@mercator-gymnasium.de
SUMMARY:Klasse 5: Elterncafe
DESCRIPTION:
URL:https://mercator-gymnasium.de/event/klasse-5-elterncafe/
END:VEVENT
BEGIN:VEVENT
DTSTART;TZID=Europe/Berlin:20240910T170000
DTEND;TZID=Europe/Berlin:20240910T180000
DTSTAMP:20260424T094652
CREATED:20240808T102047Z
LAST-MODIFIED:20240910T103509Z
UID:21687-1725987600-1725991200@mercator-gymnasium.de
SUMMARY:Klasse 5: Profilvorstellung (Aula)+Pflegschaften
DESCRIPTION:
URL:https://mercator-gymnasium.de/event/klasse-5-profilvorstellung-aulapflegschaften/
END:VEVENT
BEGIN:VEVENT
DTSTART;TZID=Europe/Berlin:20240910T180000
DTEND;TZID=Europe/Berlin:20240910T200000
DTSTAMP:20260424T094652
CREATED:20240808T102047Z
LAST-MODIFIED:20240910T103509Z
UID:21688-1725991200-1725998400@mercator-gymnasium.de
SUMMARY:6er-Pflegschaften
DESCRIPTION:
URL:https://mercator-gymnasium.de/event/6er-pflegschaften-3/
END:VEVENT
BEGIN:VEVENT
DTSTART;TZID=Europe/Berlin:20240913T114500
DTEND;TZID=Europe/Berlin:20240913T131000
DTSTAMP:20260424T094652
CREATED:20240815T102007Z
LAST-MODIFIED:20240913T105009Z
UID:21740-1726227900-1726233000@mercator-gymnasium.de
SUMMARY:Schülerratssitzung (Aula) / Wahlen Schülersprecher*in und Team
DESCRIPTION:
URL:https://mercator-gymnasium.de/event/schuelerratssitzung-aula-wahlen-schuelersprecherin-und-team-3/
END:VEVENT
BEGIN:VEVENT
DTSTART;TZID=Europe/Berlin:20240916T170000
DTEND;TZID=Europe/Berlin:20240916T190000
DTSTAMP:20260424T094652
CREATED:20240808T102047Z
LAST-MODIFIED:20240916T105011Z
UID:21689-1726506000-1726513200@mercator-gymnasium.de
SUMMARY:8er-Pflegschaft (Start: Aula\, Information zur Potenzialanalyse\, dann: Klassenräume)
DESCRIPTION:
URL:https://mercator-gymnasium.de/event/8er-pflegschaft-start-aula-information-zur-potenzialanalyse-dann-klassenraeume-2/
END:VEVENT
BEGIN:VEVENT
DTSTART;TZID=Europe/Berlin:20240916T180000
DTEND;TZID=Europe/Berlin:20240916T200000
DTSTAMP:20260424T094652
CREATED:20240808T102047Z
LAST-MODIFIED:20240916T105011Z
UID:21690-1726509600-1726516800@mercator-gymnasium.de
SUMMARY:7+9+10er-Pflegschaften
DESCRIPTION:
URL:https://mercator-gymnasium.de/event/7910er-pflegschaften/
END:VEVENT
BEGIN:VEVENT
DTSTART;TZID=Europe/Berlin:20240919T180000
DTEND;TZID=Europe/Berlin:20240919T203000
DTSTAMP:20260424T094652
CREATED:20240808T102047Z
LAST-MODIFIED:20240919T112010Z
UID:21692-1726768800-1726777800@mercator-gymnasium.de
SUMMARY:1. Schulpflegschaftssitzung
DESCRIPTION:
URL:https://mercator-gymnasium.de/event/1-schulpflegschaftssitzung/
END:VEVENT
BEGIN:VEVENT
DTSTART;TZID=Europe/Berlin:20240927T120000
DTEND;TZID=Europe/Berlin:20240927T180000
DTSTAMP:20260424T094652
CREATED:20240629T063135Z
LAST-MODIFIED:20240927T115007Z
UID:21576-1727438400-1727460000@mercator-gymnasium.de
SUMMARY:Talentfestival Hochfelder Markt (der Unterricht endet nach der 6. Stunde)
DESCRIPTION:
URL:https://mercator-gymnasium.de/event/talentfestival-hochfelder-markt/
END:VEVENT
END:VCALENDAR