BEGIN:VCALENDAR
VERSION:2.0
PRODID:-//Mercator-Gymnasium - ECPv6.15.20//NONSGML v1.0//EN
CALSCALE:GREGORIAN
METHOD:PUBLISH
X-WR-CALNAME:Mercator-Gymnasium
X-ORIGINAL-URL:https://mercator-gymnasium.de
X-WR-CALDESC:Veranstaltungen für Mercator-Gymnasium
REFRESH-INTERVAL;VALUE=DURATION:PT1H
X-Robots-Tag:noindex
X-PUBLISHED-TTL:PT1H
BEGIN:VTIMEZONE
TZID:Europe/Berlin
BEGIN:DAYLIGHT
TZOFFSETFROM:+0100
TZOFFSETTO:+0200
TZNAME:CEST
DTSTART:20230326T010000
END:DAYLIGHT
BEGIN:STANDARD
TZOFFSETFROM:+0200
TZOFFSETTO:+0100
TZNAME:CET
DTSTART:20231029T010000
END:STANDARD
BEGIN:DAYLIGHT
TZOFFSETFROM:+0100
TZOFFSETTO:+0200
TZNAME:CEST
DTSTART:20240331T010000
END:DAYLIGHT
BEGIN:STANDARD
TZOFFSETFROM:+0200
TZOFFSETTO:+0100
TZNAME:CET
DTSTART:20241027T010000
END:STANDARD
BEGIN:DAYLIGHT
TZOFFSETFROM:+0100
TZOFFSETTO:+0200
TZNAME:CEST
DTSTART:20250330T010000
END:DAYLIGHT
BEGIN:STANDARD
TZOFFSETFROM:+0200
TZOFFSETTO:+0100
TZNAME:CET
DTSTART:20251026T010000
END:STANDARD
END:VTIMEZONE
BEGIN:VEVENT
DTSTART;VALUE=DATE:20240408
DTEND;VALUE=DATE:20240413
DTSTAMP:20260424T165949
CREATED:20240109T084506Z
LAST-MODIFIED:20240412T150309Z
UID:20547-1712534400-1712966399@mercator-gymnasium.de
SUMMARY:Abitur-Intensivwoche
DESCRIPTION:
URL:https://mercator-gymnasium.de/event/abitur-intensivwoche/
END:VEVENT
BEGIN:VEVENT
DTSTART;TZID=Europe/Berlin:20240411T180000
DTEND;TZID=Europe/Berlin:20240411T210000
DTSTAMP:20260424T165949
CREATED:20240112T090011Z
LAST-MODIFIED:20240411T150119Z
UID:20559-1712858400-1712869200@mercator-gymnasium.de
SUMMARY:2. Schulpflegschaftssitzung
DESCRIPTION:
URL:https://mercator-gymnasium.de/event/2-schulpflegschaftssitzung/
END:VEVENT
BEGIN:VEVENT
DTSTART;VALUE=DATE:20240415
DTEND;VALUE=DATE:20240416
DTSTAMP:20260424T165949
CREATED:20240116T093009Z
LAST-MODIFIED:20240415T151625Z
UID:20597-1713139200-1713225599@mercator-gymnasium.de
SUMMARY:Q2 Zulasssung und Belehrung
DESCRIPTION:
URL:https://mercator-gymnasium.de/event/q2-zulasssung-und-belehrung/
END:VEVENT
BEGIN:VEVENT
DTSTART;VALUE=DATE:20240416
DTEND;VALUE=DATE:20240417
DTSTAMP:20260424T165949
CREATED:20240117T093016Z
LAST-MODIFIED:20240416T151620Z
UID:20602-1713225600-1713311999@mercator-gymnasium.de
SUMMARY:Abitur GW/SP/KU-LK
DESCRIPTION:
URL:https://mercator-gymnasium.de/event/abitur-gw-sp-ku-lk/
END:VEVENT
BEGIN:VEVENT
DTSTART;VALUE=DATE:20240418
DTEND;VALUE=DATE:20240419
DTSTAMP:20260424T165949
CREATED:20240119T093202Z
LAST-MODIFIED:20240418T151616Z
UID:20614-1713398400-1713484799@mercator-gymnasium.de
SUMMARY:Abitur GW/SP/KU/Rel-GK
DESCRIPTION:
URL:https://mercator-gymnasium.de/event/abitur-gw-sp-ku-rel-gk/
END:VEVENT
BEGIN:VEVENT
DTSTART;VALUE=DATE:20240419
DTEND;VALUE=DATE:20240420
DTSTAMP:20260424T165949
CREATED:20240120T094511Z
LAST-MODIFIED:20240419T151838Z
UID:20619-1713484800-1713571199@mercator-gymnasium.de
SUMMARY:Abitur NW/IF
DESCRIPTION:
URL:https://mercator-gymnasium.de/event/abitur-nw-if/
END:VEVENT
BEGIN:VEVENT
DTSTART;VALUE=DATE:20240422
DTEND;VALUE=DATE:20240423
DTSTAMP:20260424T165949
CREATED:20240123T094518Z
LAST-MODIFIED:20240422T153228Z
UID:20640-1713744000-1713830399@mercator-gymnasium.de
SUMMARY:Abitur Französisch
DESCRIPTION:
URL:https://mercator-gymnasium.de/event/abitur-franzoesisch/
END:VEVENT
BEGIN:VEVENT
DTSTART;TZID=Europe/Berlin:20240423T180000
DTEND;TZID=Europe/Berlin:20240423T190000
DTSTAMP:20260424T165949
CREATED:20240124T094528Z
LAST-MODIFIED:20240423T153112Z
UID:20645-1713895200-1713898800@mercator-gymnasium.de
SUMMARY:2. Schulkonferenz (Gebäudeöffnung 17:30 Uhr)
DESCRIPTION:
URL:https://mercator-gymnasium.de/event/2-schulkonferenz-gebaeudeoeffnung-1730-uhr/
END:VEVENT
BEGIN:VEVENT
DTSTART;VALUE=DATE:20240424
DTEND;VALUE=DATE:20240425
DTSTAMP:20260424T165949
CREATED:20240125T094508Z
LAST-MODIFIED:20240424T153112Z
UID:20649-1713916800-1714003199@mercator-gymnasium.de
SUMMARY:MERCATOR-Tag (1. Unterrichtstag 1901)
DESCRIPTION:
URL:https://mercator-gymnasium.de/event/mercator-tag-1-unterrichtstag-1901-3/
END:VEVENT
BEGIN:VEVENT
DTSTART;VALUE=DATE:20240425
DTEND;VALUE=DATE:20240426
DTSTAMP:20260424T165949
CREATED:20240126T094516Z
LAST-MODIFIED:20240425T153116Z
UID:20652-1714003200-1714089599@mercator-gymnasium.de
SUMMARY:Abitur Deutsch
DESCRIPTION:
URL:https://mercator-gymnasium.de/event/abitur-deutsch/
END:VEVENT
BEGIN:VEVENT
DTSTART;VALUE=DATE:20240426
DTEND;VALUE=DATE:20240427
DTSTAMP:20260424T165949
CREATED:20240127T094519Z
LAST-MODIFIED:20240426T153117Z
UID:20666-1714089600-1714175999@mercator-gymnasium.de
SUMMARY:Abitur Latein (Erw.)
DESCRIPTION:
URL:https://mercator-gymnasium.de/event/abitur-latein-erw/
END:VEVENT
BEGIN:VEVENT
DTSTART;TZID=Europe/Berlin:20240427T150000
DTEND;TZID=Europe/Berlin:20240427T160000
DTSTAMP:20260424T165949
CREATED:20240128T094512Z
LAST-MODIFIED:20240426T153117Z
UID:20672-1714230000-1714233600@mercator-gymnasium.de
SUMMARY:"Kidical mass"-Radtour (15 Uhr ab Hbf)
DESCRIPTION:
URL:https://mercator-gymnasium.de/event/kidical-mass-radtour-15-uhr-ab-hbf/
END:VEVENT
END:VCALENDAR