BEGIN:VCALENDAR
VERSION:2.0
PRODID:-//Mercator-Gymnasium - ECPv6.15.20//NONSGML v1.0//EN
CALSCALE:GREGORIAN
METHOD:PUBLISH
X-ORIGINAL-URL:https://mercator-gymnasium.de
X-WR-CALDESC:Veranstaltungen für Mercator-Gymnasium
REFRESH-INTERVAL;VALUE=DURATION:PT1H
X-Robots-Tag:noindex
X-PUBLISHED-TTL:PT1H
BEGIN:VTIMEZONE
TZID:Europe/Berlin
BEGIN:DAYLIGHT
TZOFFSETFROM:+0100
TZOFFSETTO:+0200
TZNAME:CEST
DTSTART:20230326T010000
END:DAYLIGHT
BEGIN:STANDARD
TZOFFSETFROM:+0200
TZOFFSETTO:+0100
TZNAME:CET
DTSTART:20231029T010000
END:STANDARD
BEGIN:DAYLIGHT
TZOFFSETFROM:+0100
TZOFFSETTO:+0200
TZNAME:CEST
DTSTART:20240331T010000
END:DAYLIGHT
BEGIN:STANDARD
TZOFFSETFROM:+0200
TZOFFSETTO:+0100
TZNAME:CET
DTSTART:20241027T010000
END:STANDARD
BEGIN:DAYLIGHT
TZOFFSETFROM:+0100
TZOFFSETTO:+0200
TZNAME:CEST
DTSTART:20250330T010000
END:DAYLIGHT
BEGIN:STANDARD
TZOFFSETFROM:+0200
TZOFFSETTO:+0100
TZNAME:CET
DTSTART:20251026T010000
END:STANDARD
END:VTIMEZONE
BEGIN:VEVENT
DTSTART;VALUE=DATE:20240129
DTEND;VALUE=DATE:20240209
DTSTAMP:20260424T200819
CREATED:20231017T185207Z
LAST-MODIFIED:20240208T100008Z
UID:20002-1706486400-1707436799@mercator-gymnasium.de
SUMMARY:Jg. 10 - Praktikum zur Berufsorientierung
DESCRIPTION:
URL:https://mercator-gymnasium.de/event/jg-10-praktikum-zur-berufsorientierung/
END:VEVENT
BEGIN:VEVENT
DTSTART;VALUE=DATE:20240209
DTEND;VALUE=DATE:20240210
DTSTAMP:20260424T200819
CREATED:20231111T060023Z
LAST-MODIFIED:20240209T100009Z
UID:20215-1707436800-1707523199@mercator-gymnasium.de
SUMMARY:Ausgleichstag für den Tag der offenen Tür (unterrichtsfrei)
DESCRIPTION:
URL:https://mercator-gymnasium.de/event/ausgleichstag-fuer-den-tag-der-offenen-tuer-unterrichtsfrei/
END:VEVENT
BEGIN:VEVENT
DTSTART;VALUE=DATE:20240212
DTEND;VALUE=DATE:20240213
DTSTAMP:20260424T200819
CREATED:20231114T060054Z
LAST-MODIFIED:20240212T101512Z
UID:20230-1707696000-1707782399@mercator-gymnasium.de
SUMMARY:Rosenmontag (unterrichtsfrei)
DESCRIPTION:
URL:https://mercator-gymnasium.de/event/rosenmontag-unterrichtsfrei-4/
END:VEVENT
BEGIN:VEVENT
DTSTART;VALUE=DATE:20240213
DTEND;VALUE=DATE:20240214
DTSTAMP:20260424T200819
CREATED:20231115T061535Z
LAST-MODIFIED:20240213T101512Z
UID:20233-1707782400-1707868799@mercator-gymnasium.de
SUMMARY:Beweglicher Ferientag (unterrichtsfrei)
DESCRIPTION:
URL:https://mercator-gymnasium.de/event/beweglicher-ferientag-unterrichtsfrei-7/
END:VEVENT
BEGIN:VEVENT
DTSTART;TZID=Europe/Berlin:20240214T080000
DTEND;TZID=Europe/Berlin:20240216T090000
DTSTAMP:20260424T200819
CREATED:20231116T061522Z
LAST-MODIFIED:20240215T101507Z
UID:20242-1707897600-1708074000@mercator-gymnasium.de
SUMMARY:SV-Fahrt
DESCRIPTION:
URL:https://mercator-gymnasium.de/event/sv-fahrt/
END:VEVENT
BEGIN:VEVENT
DTSTART;TZID=Europe/Berlin:20240229T095000
DTEND;TZID=Europe/Berlin:20240229T113500
DTSTAMP:20260424T200819
CREATED:20240123T094518Z
LAST-MODIFIED:20240228T120227Z
UID:20639-1709200200-1709206500@mercator-gymnasium.de
SUMMARY:Vocatium Q1
DESCRIPTION:
URL:https://mercator-gymnasium.de/event/vocatium-q1/
END:VEVENT
END:VCALENDAR