BEGIN:VCALENDAR
VERSION:2.0
PRODID:-//Mercator-Gymnasium - ECPv6.15.20//NONSGML v1.0//EN
CALSCALE:GREGORIAN
METHOD:PUBLISH
X-ORIGINAL-URL:https://mercator-gymnasium.de
X-WR-CALDESC:Veranstaltungen für Mercator-Gymnasium
REFRESH-INTERVAL;VALUE=DURATION:PT1H
X-Robots-Tag:noindex
X-PUBLISHED-TTL:PT1H
BEGIN:VTIMEZONE
TZID:UTC
BEGIN:STANDARD
TZOFFSETFROM:+0000
TZOFFSETTO:+0000
TZNAME:UTC
DTSTART:20220101T000000
END:STANDARD
END:VTIMEZONE
BEGIN:VTIMEZONE
TZID:Europe/Berlin
BEGIN:DAYLIGHT
TZOFFSETFROM:+0100
TZOFFSETTO:+0200
TZNAME:CEST
DTSTART:20220327T010000
END:DAYLIGHT
BEGIN:STANDARD
TZOFFSETFROM:+0200
TZOFFSETTO:+0100
TZNAME:CET
DTSTART:20221030T010000
END:STANDARD
BEGIN:DAYLIGHT
TZOFFSETFROM:+0100
TZOFFSETTO:+0200
TZNAME:CEST
DTSTART:20230326T010000
END:DAYLIGHT
BEGIN:STANDARD
TZOFFSETFROM:+0200
TZOFFSETTO:+0100
TZNAME:CET
DTSTART:20231029T010000
END:STANDARD
BEGIN:DAYLIGHT
TZOFFSETFROM:+0100
TZOFFSETTO:+0200
TZNAME:CEST
DTSTART:20240331T010000
END:DAYLIGHT
BEGIN:STANDARD
TZOFFSETFROM:+0200
TZOFFSETTO:+0100
TZNAME:CET
DTSTART:20241027T010000
END:STANDARD
END:VTIMEZONE
BEGIN:VEVENT
DTSTART;VALUE=DATE:20231018
DTEND;VALUE=DATE:20231019
DTSTAMP:20260425T013236
CREATED:20231013T110726Z
LAST-MODIFIED:20231013T110726Z
UID:19972-1697587200-1697673599@mercator-gymnasium.de
SUMMARY:18 Uhr: Elternabend zum Thema "Medienbegleitung"
DESCRIPTION:
URL:https://mercator-gymnasium.de/event/18-uhr-elternabend-zum-thema-medienbegleitung/
END:VEVENT
BEGIN:VEVENT
DTSTART;TZID=Europe/Berlin:20231018T140000
DTEND;TZID=Europe/Berlin:20231018T153000
DTSTAMP:20260425T013236
CREATED:20231017T185154Z
LAST-MODIFIED:20231018T010018Z
UID:19991-1697637600-1697643000@mercator-gymnasium.de
SUMMARY:Steuergruppe
DESCRIPTION:
URL:https://mercator-gymnasium.de/event/steuergruppe-3/
END:VEVENT
BEGIN:VEVENT
DTSTART;TZID=Europe/Berlin:20231018T180000
DTEND;TZID=Europe/Berlin:20231018T190000
DTSTAMP:20260425T013236
CREATED:20231017T185154Z
LAST-MODIFIED:20231018T010018Z
UID:19992-1697652000-1697655600@mercator-gymnasium.de
SUMMARY:Elternabend Thema "Medienbegleitung"
DESCRIPTION:
URL:https://mercator-gymnasium.de/event/elternabend-thema-medienbegleitung/
END:VEVENT
BEGIN:VEVENT
DTSTART;TZID=Europe/Berlin:20231024T183000
DTEND;TZID=Europe/Berlin:20231024T210000
DTSTAMP:20260425T013236
CREATED:20230726T141506Z
LAST-MODIFIED:20231024T054506Z
UID:19641-1698172200-1698181200@mercator-gymnasium.de
SUMMARY:Konzert "MercatorJazz trifft Mercator-Gymnasium"
DESCRIPTION:
URL:https://mercator-gymnasium.de/event/konzert-mercatorjazz-trifft-mercator-gymnasium/
END:VEVENT
BEGIN:VEVENT
DTSTART;TZID=Europe/Berlin:20231026T140000
DTEND;TZID=Europe/Berlin:20231026T160000
DTSTAMP:20260425T013236
CREATED:20231017T185154Z
LAST-MODIFIED:20231026T054505Z
UID:19993-1698328800-1698336000@mercator-gymnasium.de
SUMMARY:Grundschulmarkt\, Parken auf dem Hof
DESCRIPTION:
URL:https://mercator-gymnasium.de/event/grundschulmarkt-parken-auf-dem-hof/
END:VEVENT
BEGIN:VEVENT
DTSTART;VALUE=DATE:20231027
DTEND;VALUE=DATE:20231028
DTSTAMP:20260425T013236
CREATED:20231017T185154Z
LAST-MODIFIED:20231027T054509Z
UID:19995-1698364800-1698451199@mercator-gymnasium.de
SUMMARY:Jg. 8 Berufsfelderkundung Köln
DESCRIPTION:
URL:https://mercator-gymnasium.de/event/jg-8-berufsfelderkundung-koeln/
END:VEVENT
BEGIN:VEVENT
DTSTART;TZID=Europe/Berlin:20231027T170000
DTEND;TZID=Europe/Berlin:20231027T190000
DTSTAMP:20260425T013236
CREATED:20231017T185154Z
LAST-MODIFIED:20231027T054509Z
UID:19994-1698426000-1698433200@mercator-gymnasium.de
SUMMARY:Jg. 5 & 6 SV-Gruselparty
DESCRIPTION:
URL:https://mercator-gymnasium.de/event/jg-5-6-sv-gruselparty/
END:VEVENT
END:VCALENDAR