BEGIN:VCALENDAR
VERSION:2.0
PRODID:-//Mercator-Gymnasium - ECPv6.15.20//NONSGML v1.0//EN
CALSCALE:GREGORIAN
METHOD:PUBLISH
X-WR-CALNAME:Mercator-Gymnasium
X-ORIGINAL-URL:https://mercator-gymnasium.de
X-WR-CALDESC:Veranstaltungen für Mercator-Gymnasium
REFRESH-INTERVAL;VALUE=DURATION:PT1H
X-Robots-Tag:noindex
X-PUBLISHED-TTL:PT1H
BEGIN:VTIMEZONE
TZID:Europe/Berlin
BEGIN:DAYLIGHT
TZOFFSETFROM:+0100
TZOFFSETTO:+0200
TZNAME:CEST
DTSTART:20220327T010000
END:DAYLIGHT
BEGIN:STANDARD
TZOFFSETFROM:+0200
TZOFFSETTO:+0100
TZNAME:CET
DTSTART:20221030T010000
END:STANDARD
BEGIN:DAYLIGHT
TZOFFSETFROM:+0100
TZOFFSETTO:+0200
TZNAME:CEST
DTSTART:20230326T010000
END:DAYLIGHT
BEGIN:STANDARD
TZOFFSETFROM:+0200
TZOFFSETTO:+0100
TZNAME:CET
DTSTART:20231029T010000
END:STANDARD
BEGIN:DAYLIGHT
TZOFFSETFROM:+0100
TZOFFSETTO:+0200
TZNAME:CEST
DTSTART:20240331T010000
END:DAYLIGHT
BEGIN:STANDARD
TZOFFSETFROM:+0200
TZOFFSETTO:+0100
TZNAME:CET
DTSTART:20241027T010000
END:STANDARD
END:VTIMEZONE
BEGIN:VEVENT
DTSTART;VALUE=DATE:20230831
DTEND;VALUE=DATE:20230902
DTSTAMP:20260425T030805
CREATED:20230630T134043Z
LAST-MODIFIED:20230811T143014Z
UID:19548-1693440000-1693612799@mercator-gymnasium.de
SUMMARY:Klassenfahrt 5c
DESCRIPTION:
URL:https://mercator-gymnasium.de/event/klassenfahrt-5c/
END:VEVENT
BEGIN:VEVENT
DTSTART;VALUE=DATE:20230904
DTEND;VALUE=DATE:20230906
DTSTAMP:20260425T030805
CREATED:20230724T141549Z
LAST-MODIFIED:20230811T143014Z
UID:19624-1693785600-1693958399@mercator-gymnasium.de
SUMMARY:Jg. 8 - Potentialanalyse
DESCRIPTION:
URL:https://mercator-gymnasium.de/event/jg-8-potentialanalyse/
END:VEVENT
BEGIN:VEVENT
DTSTART;VALUE=DATE:20230906
DTEND;VALUE=DATE:20230907
DTSTAMP:20260425T030805
CREATED:20230724T141549Z
LAST-MODIFIED:20230811T143014Z
UID:19625-1693958400-1694044799@mercator-gymnasium.de
SUMMARY:Jg. 8 Potentialanalyse / Auswertung der Potentialanalyse (Einzelgespräche)
DESCRIPTION:
URL:https://mercator-gymnasium.de/event/jg-8-potentialanalyse-auswertung-der-potentialanalyse-einzelgespraeche/
END:VEVENT
BEGIN:VEVENT
DTSTART;VALUE=DATE:20230907
DTEND;VALUE=DATE:20230908
DTSTAMP:20260425T030805
CREATED:20230811T143014Z
LAST-MODIFIED:20230811T143014Z
UID:19708-1694044800-1694131199@mercator-gymnasium.de
SUMMARY:14 Uhr Klavierstimmung Aula
DESCRIPTION:
URL:https://mercator-gymnasium.de/event/14-uhr-klavierstimmung-aula/
END:VEVENT
BEGIN:VEVENT
DTSTART;VALUE=DATE:20230907
DTEND;VALUE=DATE:20230909
DTSTAMP:20260425T030805
CREATED:20230629T134132Z
LAST-MODIFIED:20230811T143014Z
UID:19538-1694044800-1694217599@mercator-gymnasium.de
SUMMARY:Klassenfahrt 5b
DESCRIPTION:
URL:https://mercator-gymnasium.de/event/klassenfahrt-5b/
END:VEVENT
BEGIN:VEVENT
DTSTART;TZID=Europe/Berlin:20230907T180000
DTEND;TZID=Europe/Berlin:20230907T200000
DTSTAMP:20260425T030805
CREATED:20230629T134132Z
LAST-MODIFIED:20230811T143015Z
UID:19537-1694109600-1694116800@mercator-gymnasium.de
SUMMARY:1. Schulpflegschaftssitzung (Gebäude offen zur Beratung ab 17:30)
DESCRIPTION:
URL:https://mercator-gymnasium.de/event/1-schulpflegschaftssitzung-gebaeude-offen-zur-beratung-ab-1730/
END:VEVENT
BEGIN:VEVENT
DTSTART;TZID=Europe/Berlin:20230910T110000
DTEND;TZID=Europe/Berlin:20230910T130000
DTSTAMP:20260425T030805
CREATED:20230612T134017Z
LAST-MODIFIED:20230811T143015Z
UID:19405-1694343600-1694350800@mercator-gymnasium.de
SUMMARY:Mercator-EHEMALIGEN-Treffen
DESCRIPTION:
URL:https://mercator-gymnasium.de/event/mercator-ehemaligen-treffen/
END:VEVENT
BEGIN:VEVENT
DTSTART;VALUE=DATE:20230911
DTEND;VALUE=DATE:20230913
DTSTAMP:20260425T030805
CREATED:20230629T134132Z
LAST-MODIFIED:20230811T143015Z
UID:19539-1694390400-1694563199@mercator-gymnasium.de
SUMMARY:Klassenfahrt 5a
DESCRIPTION:
URL:https://mercator-gymnasium.de/event/klassenfahrt-5a/
END:VEVENT
BEGIN:VEVENT
DTSTART;TZID=Europe/Berlin:20230913T090000
DTEND;TZID=Europe/Berlin:20230913T130000
DTSTAMP:20260425T030805
CREATED:20230615T134050Z
LAST-MODIFIED:20230811T143015Z
UID:19434-1694595600-1694610000@mercator-gymnasium.de
SUMMARY:Klavier-Festival Ruhr / Aula des Mercator-Gymnasiums
DESCRIPTION:
URL:https://mercator-gymnasium.de/event/klavier-festival-ruhr-aula-des-mercator-gymnasiums/
END:VEVENT
BEGIN:VEVENT
DTSTART;TZID=Europe/Berlin:20230914T090000
DTEND;TZID=Europe/Berlin:20230914T130000
DTSTAMP:20260425T030805
CREATED:20230616T134004Z
LAST-MODIFIED:20230811T143015Z
UID:19438-1694682000-1694696400@mercator-gymnasium.de
SUMMARY:Klavier-Festival Ruhr / Aula des Mercator-Gymnasiums
DESCRIPTION:
URL:https://mercator-gymnasium.de/event/klavier-festival-ruhr-aula-des-mercator-gymnasiums-2/
END:VEVENT
BEGIN:VEVENT
DTSTART;TZID=Europe/Berlin:20230915T090000
DTEND;TZID=Europe/Berlin:20230915T130000
DTSTAMP:20260425T030805
CREATED:20230617T134029Z
LAST-MODIFIED:20230811T143015Z
UID:19442-1694768400-1694782800@mercator-gymnasium.de
SUMMARY:Klavier-Festival Ruhr / Aula des Mercator-Gymnasiums
DESCRIPTION:
URL:https://mercator-gymnasium.de/event/klavier-festival-ruhr-aula-des-mercator-gymnasiums-3/
END:VEVENT
BEGIN:VEVENT
DTSTART;TZID=Europe/Berlin:20230915T123000
DTEND;TZID=Europe/Berlin:20230915T143000
DTSTAMP:20260425T030805
CREATED:20230724T141549Z
LAST-MODIFIED:20230811T143015Z
UID:19626-1694781000-1694788200@mercator-gymnasium.de
SUMMARY:Jg. 5 - "Profile" Schnupperunterricht
DESCRIPTION:
URL:https://mercator-gymnasium.de/event/jg-5-profile-schnupperunterricht/
END:VEVENT
BEGIN:VEVENT
DTSTART;VALUE=DATE:20230918
DTEND;VALUE=DATE:20230919
DTSTAMP:20260425T030805
CREATED:20230724T141549Z
LAST-MODIFIED:20230811T143015Z
UID:19627-1694995200-1695081599@mercator-gymnasium.de
SUMMARY:Jg. 5 Abgabe Wahlen Profil-Unterricht
DESCRIPTION:
URL:https://mercator-gymnasium.de/event/jg-5-abgabe-wahlen-profil-unterricht/
END:VEVENT
BEGIN:VEVENT
DTSTART;TZID=Europe/Berlin:20230919T180000
DTEND;TZID=Europe/Berlin:20230919T200000
DTSTAMP:20260425T030805
CREATED:20230629T134132Z
LAST-MODIFIED:20230811T143015Z
UID:19540-1695146400-1695153600@mercator-gymnasium.de
SUMMARY:1. Schulkonferenz (Gebäudeöffnung: 17:30)
DESCRIPTION:
URL:https://mercator-gymnasium.de/event/1-schulkonferenz-gebaeudeoeffnung-1730-2/
END:VEVENT
BEGIN:VEVENT
DTSTART;VALUE=DATE:20230922
DTEND;VALUE=DATE:20230923
DTSTAMP:20260425T030805
CREATED:20230624T134039Z
LAST-MODIFIED:20230811T143015Z
UID:19506-1695340800-1695427199@mercator-gymnasium.de
SUMMARY:"Hochfeld - das Talent steckt in dir" Fest auf dem Hochfelder Marktplatz
DESCRIPTION:
URL:https://mercator-gymnasium.de/event/hochfeld-das-talent-steckt-in-dir-fest-auf-dem-hochfelder-marktplatz/
END:VEVENT
BEGIN:VEVENT
DTSTART;TZID=Europe/Berlin:20230926T140000
DTEND;TZID=Europe/Berlin:20230929T153000
DTSTAMP:20260425T030805
CREATED:20230724T141549Z
LAST-MODIFIED:20230811T143015Z
UID:19628-1695736800-1696001400@mercator-gymnasium.de
SUMMARY:Jg. 5 Start des Profil-Unterrichts
DESCRIPTION:
URL:https://mercator-gymnasium.de/event/jg-5-start-des-profil-unterrichts/
END:VEVENT
END:VCALENDAR