BEGIN:VCALENDAR
VERSION:2.0
PRODID:-//Mercator-Gymnasium - ECPv6.15.20//NONSGML v1.0//EN
CALSCALE:GREGORIAN
METHOD:PUBLISH
X-ORIGINAL-URL:https://mercator-gymnasium.de
X-WR-CALDESC:Veranstaltungen für Mercator-Gymnasium
REFRESH-INTERVAL;VALUE=DURATION:PT1H
X-Robots-Tag:noindex
X-PUBLISHED-TTL:PT1H
BEGIN:VTIMEZONE
TZID:Europe/Berlin
BEGIN:DAYLIGHT
TZOFFSETFROM:+0100
TZOFFSETTO:+0200
TZNAME:CEST
DTSTART:20220327T010000
END:DAYLIGHT
BEGIN:STANDARD
TZOFFSETFROM:+0200
TZOFFSETTO:+0100
TZNAME:CET
DTSTART:20221030T010000
END:STANDARD
BEGIN:DAYLIGHT
TZOFFSETFROM:+0100
TZOFFSETTO:+0200
TZNAME:CEST
DTSTART:20230326T010000
END:DAYLIGHT
BEGIN:STANDARD
TZOFFSETFROM:+0200
TZOFFSETTO:+0100
TZNAME:CET
DTSTART:20231029T010000
END:STANDARD
BEGIN:DAYLIGHT
TZOFFSETFROM:+0100
TZOFFSETTO:+0200
TZNAME:CEST
DTSTART:20240331T010000
END:DAYLIGHT
BEGIN:STANDARD
TZOFFSETFROM:+0200
TZOFFSETTO:+0100
TZNAME:CET
DTSTART:20241027T010000
END:STANDARD
END:VTIMEZONE
BEGIN:VEVENT
DTSTART;TZID=Europe/Berlin:20230418T140000
DTEND;TZID=Europe/Berlin:20230418T160000
DTSTAMP:20260425T102131
CREATED:20230307T054014Z
LAST-MODIFIED:20230418T091702Z
UID:18819-1681826400-1681833600@mercator-gymnasium.de
SUMMARY:Steuergruppensitzung
DESCRIPTION:
URL:https://mercator-gymnasium.de/event/steuergruppensitzung/
END:VEVENT
BEGIN:VEVENT
DTSTART;TZID=Europe/Berlin:20230418T180000
DTEND;TZID=Europe/Berlin:20230418T190000
DTSTAMP:20260425T102131
CREATED:20230223T235538Z
LAST-MODIFIED:20230418T091702Z
UID:18758-1681840800-1681844400@mercator-gymnasium.de
SUMMARY:Infoabend 2. Fremdsprache Jgst. 6
DESCRIPTION:
URL:https://mercator-gymnasium.de/event/infoabend-2-fremdsprache-jgst-6-2/
END:VEVENT
BEGIN:VEVENT
DTSTART;VALUE=DATE:20230424
DTEND;VALUE=DATE:20230425
DTSTAMP:20260425T102131
CREATED:20230124T215616Z
LAST-MODIFIED:20230424T102554Z
UID:18518-1682294400-1682380799@mercator-gymnasium.de
SUMMARY:MERCATOR-Tag (1. Unterrichtstag 1901)
DESCRIPTION:
URL:https://mercator-gymnasium.de/event/mercator-tag-1-unterrichtstag-1901-2/
END:VEVENT
BEGIN:VEVENT
DTSTART;TZID=Europe/Berlin:20230426T180000
DTEND;TZID=Europe/Berlin:20230426T190000
DTSTAMP:20260425T102131
CREATED:20230119T212505Z
LAST-MODIFIED:20230426T102503Z
UID:18492-1682532000-1682535600@mercator-gymnasium.de
SUMMARY:2. Schulkonferenz (Gebäudeöffnung ab 17:30)
DESCRIPTION:
URL:https://mercator-gymnasium.de/event/2-schulkonferenz-gebaeudeoeffnung-ab-1730/
END:VEVENT
END:VCALENDAR