BEGIN:VCALENDAR
VERSION:2.0
PRODID:-//Mercator-Gymnasium - ECPv6.15.20//NONSGML v1.0//EN
CALSCALE:GREGORIAN
METHOD:PUBLISH
X-WR-CALNAME:Mercator-Gymnasium
X-ORIGINAL-URL:https://mercator-gymnasium.de
X-WR-CALDESC:Veranstaltungen für Mercator-Gymnasium
REFRESH-INTERVAL;VALUE=DURATION:PT1H
X-Robots-Tag:noindex
X-PUBLISHED-TTL:PT1H
BEGIN:VTIMEZONE
TZID:Europe/Berlin
BEGIN:DAYLIGHT
TZOFFSETFROM:+0100
TZOFFSETTO:+0200
TZNAME:CEST
DTSTART:20220327T010000
END:DAYLIGHT
BEGIN:STANDARD
TZOFFSETFROM:+0200
TZOFFSETTO:+0100
TZNAME:CET
DTSTART:20221030T010000
END:STANDARD
BEGIN:DAYLIGHT
TZOFFSETFROM:+0100
TZOFFSETTO:+0200
TZNAME:CEST
DTSTART:20230326T010000
END:DAYLIGHT
BEGIN:STANDARD
TZOFFSETFROM:+0200
TZOFFSETTO:+0100
TZNAME:CET
DTSTART:20231029T010000
END:STANDARD
BEGIN:DAYLIGHT
TZOFFSETFROM:+0100
TZOFFSETTO:+0200
TZNAME:CEST
DTSTART:20240331T010000
END:DAYLIGHT
BEGIN:STANDARD
TZOFFSETFROM:+0200
TZOFFSETTO:+0100
TZNAME:CET
DTSTART:20241027T010000
END:STANDARD
END:VTIMEZONE
BEGIN:VEVENT
DTSTART;TZID=Europe/Berlin:20230308T180000
DTEND;TZID=Europe/Berlin:20230308T213000
DTSTAMP:20260425T113528
CREATED:20230301T051004Z
LAST-MODIFIED:20230308T054134Z
UID:18786-1678298400-1678311000@mercator-gymnasium.de
SUMMARY:Q2-Eltern-/Schülerabend Abitur 2023
DESCRIPTION:
URL:https://mercator-gymnasium.de/event/q2-eltern-schuelerabend-abitur-2023/
END:VEVENT
BEGIN:VEVENT
DTSTART;TZID=Europe/Berlin:20230322T180000
DTEND;TZID=Europe/Berlin:20230322T193000
DTSTAMP:20260425T113528
CREATED:20230301T051004Z
LAST-MODIFIED:20230322T073748Z
UID:18787-1679508000-1679513400@mercator-gymnasium.de
SUMMARY:Elternabend EF (Informationen zur kommenden Q1)
DESCRIPTION:
URL:https://mercator-gymnasium.de/event/elternabend-ef/
END:VEVENT
BEGIN:VEVENT
DTSTART;TZID=Europe/Berlin:20230324T130000
DTEND;TZID=Europe/Berlin:20230324T140000
DTSTAMP:20260425T113528
CREATED:20221224T202514Z
LAST-MODIFIED:20230324T075518Z
UID:18383-1679662800-1679666400@mercator-gymnasium.de
SUMMARY:Ende des 3. Quartals (5-Q1)
DESCRIPTION:
URL:https://mercator-gymnasium.de/event/ende-des-3-quartals-5-q1/
END:VEVENT
BEGIN:VEVENT
DTSTART;TZID=Europe/Berlin:20230327T180000
DTEND;TZID=Europe/Berlin:20230327T190000
DTSTAMP:20260425T113528
CREATED:20221228T204026Z
LAST-MODIFIED:20230327T075507Z
UID:18393-1679940000-1679943600@mercator-gymnasium.de
SUMMARY:2. Schulpflegschaft (Gebäudeöffnung ab 17:30)
DESCRIPTION:
URL:https://mercator-gymnasium.de/event/2-schulpflegschaft-gebaeudeoeffnung-ab-1730/
END:VEVENT
BEGIN:VEVENT
DTSTART;TZID=Europe/Berlin:20230329T140000
DTEND;TZID=Europe/Berlin:20230329T173000
DTSTAMP:20260425T113528
CREATED:20230327T075505Z
LAST-MODIFIED:20230329T075505Z
UID:18898-1680098400-1680111000@mercator-gymnasium.de
SUMMARY:Lehrerkonferenz (der Unterricht schließt nach der 6. Stunde)
DESCRIPTION:
URL:https://mercator-gymnasium.de/event/lehrerkonferenz-der-unterricht-schliesst-nach-der-6-stunde/
END:VEVENT
BEGIN:VEVENT
DTSTART;TZID=Europe/Berlin:20230330T150000
DTEND;TZID=Europe/Berlin:20230330T163000
DTSTAMP:20260425T113528
CREATED:20230316T054015Z
LAST-MODIFIED:20230330T075510Z
UID:18853-1680188400-1680193800@mercator-gymnasium.de
SUMMARY:Informationsnachmittag zu den Wahlen der neuen EF (Bündelungsgymnasium - für alle Real- und Sekundarschüler*innen)
DESCRIPTION:
URL:https://mercator-gymnasium.de/event/informationsnachmittag-zu-den-wahlen-der-neuen-ef-buendelungsgymnasium-fuer-alle-real-und-sekundarschuelerinnen/
END:VEVENT
BEGIN:VEVENT
DTSTART;TZID=Europe/Berlin:20230330T180000
DTEND;TZID=Europe/Berlin:20230330T190000
DTSTAMP:20260425T113528
CREATED:20230316T054016Z
LAST-MODIFIED:20230326T143945Z
UID:18855-1680199200-1680202800@mercator-gymnasium.de
SUMMARY:Eltern-Informationsabend zu den Wahlen der neuen EF (Bündelungsgymnasium - für alle Real- und Sekundarschüler*innen)
DESCRIPTION:
URL:https://mercator-gymnasium.de/event/informationsnachmittag-zu-den-wahlen-der-neuen-ef-buendelungsgymnasium-fuer-alle-real-und-sekundarschuelerinnen-2/
END:VEVENT
BEGIN:VEVENT
DTSTART;TZID=Europe/Berlin:20230330T180000
DTEND;TZID=Europe/Berlin:20230330T193000
DTSTAMP:20260425T113528
CREATED:20230316T054015Z
LAST-MODIFIED:20230330T075510Z
UID:18854-1680199200-1680204600@mercator-gymnasium.de
SUMMARY:Elternabend zu den Wahlen der neuen EF (Bündelungsgymnasium)
DESCRIPTION:
URL:https://mercator-gymnasium.de/event/elternabend-zu-den-wahlen-der-neuen-ef-buendelungsgymnasium/
END:VEVENT
BEGIN:VEVENT
DTSTART;TZID=Europe/Berlin:20230330T180000
DTEND;TZID=Europe/Berlin:20230330T193000
DTSTAMP:20260425T113528
CREATED:20230316T054016Z
LAST-MODIFIED:20230316T054016Z
UID:18856-1680199200-1680204600@mercator-gymnasium.de
SUMMARY:Elternabend zu den Wahlen der neuen EF (Bündelungsgymnasium)
DESCRIPTION:
URL:https://mercator-gymnasium.de/event/elternabend-zu-den-wahlen-der-neuen-ef-buendelungsgymnasium-2/
END:VEVENT
END:VCALENDAR