BEGIN:VCALENDAR
VERSION:2.0
PRODID:-//Mercator-Gymnasium - ECPv6.15.20//NONSGML v1.0//EN
CALSCALE:GREGORIAN
METHOD:PUBLISH
X-ORIGINAL-URL:https://mercator-gymnasium.de
X-WR-CALDESC:Veranstaltungen für Mercator-Gymnasium
REFRESH-INTERVAL;VALUE=DURATION:PT1H
X-Robots-Tag:noindex
X-PUBLISHED-TTL:PT1H
BEGIN:VTIMEZONE
TZID:Europe/Berlin
BEGIN:DAYLIGHT
TZOFFSETFROM:+0100
TZOFFSETTO:+0200
TZNAME:CEST
DTSTART:20220327T010000
END:DAYLIGHT
BEGIN:STANDARD
TZOFFSETFROM:+0200
TZOFFSETTO:+0100
TZNAME:CET
DTSTART:20221030T010000
END:STANDARD
BEGIN:DAYLIGHT
TZOFFSETFROM:+0100
TZOFFSETTO:+0200
TZNAME:CEST
DTSTART:20230326T010000
END:DAYLIGHT
BEGIN:STANDARD
TZOFFSETFROM:+0200
TZOFFSETTO:+0100
TZNAME:CET
DTSTART:20231029T010000
END:STANDARD
BEGIN:DAYLIGHT
TZOFFSETFROM:+0100
TZOFFSETTO:+0200
TZNAME:CEST
DTSTART:20240331T010000
END:DAYLIGHT
BEGIN:STANDARD
TZOFFSETFROM:+0200
TZOFFSETTO:+0100
TZNAME:CET
DTSTART:20241027T010000
END:STANDARD
END:VTIMEZONE
BEGIN:VEVENT
DTSTART;VALUE=DATE:20230210
DTEND;VALUE=DATE:20230211
DTSTAMP:20260425T130747
CREATED:20230129T222715Z
LAST-MODIFIED:20230210T234007Z
UID:18579-1675987200-1676073599@mercator-gymnasium.de
SUMMARY:15-19 Uhr: Elternsprechtag
DESCRIPTION:
URL:https://mercator-gymnasium.de/event/15-19-uhr-elternsprechtag/
END:VEVENT
BEGIN:VEVENT
DTSTART;VALUE=DATE:20230217
DTEND;VALUE=DATE:20230218
DTSTAMP:20260425T130747
CREATED:20221119T184030Z
LAST-MODIFIED:20230217T235539Z
UID:18177-1676592000-1676678399@mercator-gymnasium.de
SUMMARY:Ausgleichstag TdoT (unterrichtsfrei)
DESCRIPTION:
URL:https://mercator-gymnasium.de/event/ausgleichstag-tdot-unterrichtsfrei/
END:VEVENT
BEGIN:VEVENT
DTSTART;VALUE=DATE:20230220
DTEND;VALUE=DATE:20230221
DTSTAMP:20260425T130747
CREATED:20221122T185504Z
LAST-MODIFIED:20230220T235503Z
UID:18187-1676851200-1676937599@mercator-gymnasium.de
SUMMARY:Rosenmontag (unterrichtsfrei)
DESCRIPTION:
URL:https://mercator-gymnasium.de/event/rosenmontag-unterrichtsfrei-3/
END:VEVENT
BEGIN:VEVENT
DTSTART;VALUE=DATE:20230221
DTEND;VALUE=DATE:20230222
DTSTAMP:20260425T130747
CREATED:20221123T185509Z
LAST-MODIFIED:20230221T235532Z
UID:18191-1676937600-1677023999@mercator-gymnasium.de
SUMMARY:beweglicher Ferientag (unterrichtsfrei)
DESCRIPTION:
URL:https://mercator-gymnasium.de/event/beweglicher-ferientag-unterrichtsfrei-6/
END:VEVENT
BEGIN:VEVENT
DTSTART;TZID=Europe/Berlin:20230223T140000
DTEND;TZID=Europe/Berlin:20230223T153000
DTSTAMP:20260425T130747
CREATED:20221205T194004Z
LAST-MODIFIED:20230222T235850Z
UID:18268-1677160800-1677166200@mercator-gymnasium.de
SUMMARY:Steuergruppe
DESCRIPTION:
URL:https://mercator-gymnasium.de/event/steuergruppe-2/
END:VEVENT
BEGIN:VEVENT
DTSTART;VALUE=DATE:20230224
DTEND;VALUE=DATE:20230225
DTSTAMP:20260425T130747
CREATED:20230209T234005Z
LAST-MODIFIED:20230209T234005Z
UID:18642-1677196800-1677283199@mercator-gymnasium.de
SUMMARY:12 Uhr: Schulinterne Fortbildung (ab 5. Std. unterrichtsfrei für SuS)
DESCRIPTION:
URL:https://mercator-gymnasium.de/event/12-uhr-schulinterne-fortbildung-ab-5-std-unterrichtsfrei-fuer-sus-2/
END:VEVENT
BEGIN:VEVENT
DTSTART;VALUE=DATE:20230224
DTEND;VALUE=DATE:20230225
DTSTAMP:20260425T130747
CREATED:20230209T234005Z
LAST-MODIFIED:20230224T235504Z
UID:18641-1677196800-1677283199@mercator-gymnasium.de
SUMMARY:12 Uhr: Schulinterne Fortbildung (ab 5. Std. unterrichtsfrei für SuS)
DESCRIPTION:
URL:https://mercator-gymnasium.de/event/12-uhr-schulinterne-fortbildung-ab-5-std-unterrichtsfrei-fuer-sus/
END:VEVENT
END:VCALENDAR