BEGIN:VCALENDAR
VERSION:2.0
PRODID:-//Mercator-Gymnasium - ECPv6.15.20//NONSGML v1.0//EN
CALSCALE:GREGORIAN
METHOD:PUBLISH
X-WR-CALNAME:Mercator-Gymnasium
X-ORIGINAL-URL:https://mercator-gymnasium.de
X-WR-CALDESC:Veranstaltungen für Mercator-Gymnasium
REFRESH-INTERVAL;VALUE=DURATION:PT1H
X-Robots-Tag:noindex
X-PUBLISHED-TTL:PT1H
BEGIN:VTIMEZONE
TZID:Europe/Berlin
BEGIN:DAYLIGHT
TZOFFSETFROM:+0100
TZOFFSETTO:+0200
TZNAME:CEST
DTSTART:20210328T010000
END:DAYLIGHT
BEGIN:STANDARD
TZOFFSETFROM:+0200
TZOFFSETTO:+0100
TZNAME:CET
DTSTART:20211031T010000
END:STANDARD
BEGIN:DAYLIGHT
TZOFFSETFROM:+0100
TZOFFSETTO:+0200
TZNAME:CEST
DTSTART:20220327T010000
END:DAYLIGHT
BEGIN:STANDARD
TZOFFSETFROM:+0200
TZOFFSETTO:+0100
TZNAME:CET
DTSTART:20221030T010000
END:STANDARD
BEGIN:DAYLIGHT
TZOFFSETFROM:+0100
TZOFFSETTO:+0200
TZNAME:CEST
DTSTART:20230326T010000
END:DAYLIGHT
BEGIN:STANDARD
TZOFFSETFROM:+0200
TZOFFSETTO:+0100
TZNAME:CET
DTSTART:20231029T010000
END:STANDARD
BEGIN:DAYLIGHT
TZOFFSETFROM:+0100
TZOFFSETTO:+0200
TZNAME:CEST
DTSTART:20240331T010000
END:DAYLIGHT
BEGIN:STANDARD
TZOFFSETFROM:+0200
TZOFFSETTO:+0100
TZNAME:CET
DTSTART:20241027T010000
END:STANDARD
END:VTIMEZONE
BEGIN:VEVENT
DTSTART;VALUE=DATE:20221223
DTEND;VALUE=DATE:20230107
DTSTAMP:20260425T143035
CREATED:20221211T201137Z
LAST-MODIFIED:20230106T212524Z
UID:18300-1671753600-1673049599@mercator-gymnasium.de
SUMMARY:Frohe Weihnachtsferien!
DESCRIPTION:
URL:https://mercator-gymnasium.de/event/frohe-weihnachtsferien/
END:VEVENT
BEGIN:VEVENT
DTSTART;VALUE=DATE:20230110
DTEND;VALUE=DATE:20230111
DTSTAMP:20260425T143035
CREATED:20221219T202527Z
LAST-MODIFIED:20221219T202528Z
UID:18348-1673308800-1673395199@mercator-gymnasium.de
SUMMARY:Aula ab 13.00 belegt (Probe Klavierfestival)
DESCRIPTION:
URL:https://mercator-gymnasium.de/event/aula-ab-13-00-belegt-probe-klavierfestival/
END:VEVENT
BEGIN:VEVENT
DTSTART;TZID=Europe/Berlin:20230111T180000
DTEND;TZID=Europe/Berlin:20230111T190000
DTSTAMP:20260425T143035
CREATED:20221129T191001Z
LAST-MODIFIED:20230110T212504Z
UID:18247-1673460000-1673463600@mercator-gymnasium.de
SUMMARY:Digitaler Elternabend IPads (EF-Q2)
DESCRIPTION:
URL:https://mercator-gymnasium.de/event/digitaler-elternabend-ipads-ef-q2/
END:VEVENT
BEGIN:VEVENT
DTSTART;TZID=Europe/Berlin:20230111T191500
DTEND;TZID=Europe/Berlin:20230111T201500
DTSTAMP:20260425T143035
CREATED:20221129T191001Z
LAST-MODIFIED:20230110T212504Z
UID:18248-1673464500-1673468100@mercator-gymnasium.de
SUMMARY:Digitaler Elternabend IPads (Jg. 6-9)
DESCRIPTION:
URL:https://mercator-gymnasium.de/event/digitaler-elternabend-ipads-jg-6-9/
END:VEVENT
BEGIN:VEVENT
DTSTART;TZID=Europe/Berlin:20230112T170000
DTEND;TZID=Europe/Berlin:20230112T190000
DTSTAMP:20260425T143035
CREATED:20221219T202528Z
LAST-MODIFIED:20230111T212503Z
UID:18349-1673542800-1673550000@mercator-gymnasium.de
SUMMARY:Informationsnachmittag zur Gymnasialen Oberstufe (Bündelungsgymnasium - für alle Real- und Sekundarschüler*innen)
DESCRIPTION:
URL:https://mercator-gymnasium.de/event/informationsnachmittag-zur-gymnasialen-oberstufe-buendelungsgymnasium-fuer-alle-real-und-sekundarschuelerinnen/
END:VEVENT
BEGIN:VEVENT
DTSTART;TZID=Europe/Berlin:20230118T150000
DTEND;TZID=Europe/Berlin:20230118T170000
DTSTAMP:20260425T143035
CREATED:20221020T121004Z
LAST-MODIFIED:20230117T212505Z
UID:17802-1674054000-1674061200@mercator-gymnasium.de
SUMMARY:Talentschul- und Profilnachmittag
DESCRIPTION:
URL:https://mercator-gymnasium.de/event/talentschul-und-profilnachmittag/
END:VEVENT
BEGIN:VEVENT
DTSTART;VALUE=DATE:20230120
DTEND;VALUE=DATE:20230121
DTSTAMP:20260425T143035
CREATED:20221022T122506Z
LAST-MODIFIED:20230120T212522Z
UID:17812-1674172800-1674259199@mercator-gymnasium.de
SUMMARY:Zeugnisausgabe in der 3. Stunde & Ende des ersten Halbjahres
DESCRIPTION:
URL:https://mercator-gymnasium.de/event/ende-des-ersten-halbjahres/
END:VEVENT
BEGIN:VEVENT
DTSTART;VALUE=DATE:20230123
DTEND;VALUE=DATE:20230124
DTSTAMP:20260425T143035
CREATED:20221025T125503Z
LAST-MODIFIED:20230123T214137Z
UID:17817-1674432000-1674518399@mercator-gymnasium.de
SUMMARY:Schulinterner Fortbildungstag "Digitale Unterrichtsentwicklung" (unterrichtsfrei für SuS)
DESCRIPTION:
URL:https://mercator-gymnasium.de/event/schulinterner-fortbildungstag-geplant-unterrichtsfrei-fuer-sus-2/
END:VEVENT
BEGIN:VEVENT
DTSTART;VALUE=DATE:20230123
DTEND;VALUE=DATE:20230128
DTSTAMP:20260425T143035
CREATED:20221025T125503Z
LAST-MODIFIED:20230127T221125Z
UID:17818-1674432000-1674863999@mercator-gymnasium.de
SUMMARY:14-18 Uhr: ANMELDUNGEN neue 5 und EF (Bündelungsjahrgang)
DESCRIPTION:
URL:https://mercator-gymnasium.de/event/14-18-uhr-anmeldungen-neue-5-und-ef-buendelungsjahrgang/
END:VEVENT
BEGIN:VEVENT
DTSTART;VALUE=DATE:20230124
DTEND;VALUE=DATE:20230125
DTSTAMP:20260425T143035
CREATED:20221220T202534Z
LAST-MODIFIED:20230124T215616Z
UID:18354-1674518400-1674604799@mercator-gymnasium.de
SUMMARY:Jugend debattiert- Schulfinale
DESCRIPTION:
URL:https://mercator-gymnasium.de/event/jugend-debattiert-schulfinale/
END:VEVENT
BEGIN:VEVENT
DTSTART;VALUE=DATE:20230125
DTEND;VALUE=DATE:20230128
DTSTAMP:20260425T143035
CREATED:20221102T175523Z
LAST-MODIFIED:20230127T221125Z
UID:17927-1674604800-1674863999@mercator-gymnasium.de
SUMMARY:Q1-Berufsorientierungstage
DESCRIPTION:
URL:https://mercator-gymnasium.de/event/q1-berufsorientierungstage/
END:VEVENT
BEGIN:VEVENT
DTSTART;VALUE=DATE:20230130
DTEND;VALUE=DATE:20230201
DTSTAMP:20260425T143035
CREATED:20221205T194004Z
LAST-MODIFIED:20230131T224303Z
UID:18267-1675036800-1675209599@mercator-gymnasium.de
SUMMARY:9er-Projekt-Tage (Liebe & Partnerschaft)
DESCRIPTION:
URL:https://mercator-gymnasium.de/event/9er-projekt-liebe-sexualitaeter-partnerschaft/
END:VEVENT
END:VCALENDAR