BEGIN:VCALENDAR
VERSION:2.0
PRODID:-//Mercator-Gymnasium - ECPv6.15.20//NONSGML v1.0//EN
CALSCALE:GREGORIAN
METHOD:PUBLISH
X-ORIGINAL-URL:https://mercator-gymnasium.de
X-WR-CALDESC:Veranstaltungen für Mercator-Gymnasium
REFRESH-INTERVAL;VALUE=DURATION:PT1H
X-Robots-Tag:noindex
X-PUBLISHED-TTL:PT1H
BEGIN:VTIMEZONE
TZID:Europe/Berlin
BEGIN:DAYLIGHT
TZOFFSETFROM:+0100
TZOFFSETTO:+0200
TZNAME:CEST
DTSTART:20210328T010000
END:DAYLIGHT
BEGIN:STANDARD
TZOFFSETFROM:+0200
TZOFFSETTO:+0100
TZNAME:CET
DTSTART:20211031T010000
END:STANDARD
BEGIN:DAYLIGHT
TZOFFSETFROM:+0100
TZOFFSETTO:+0200
TZNAME:CEST
DTSTART:20220327T010000
END:DAYLIGHT
BEGIN:STANDARD
TZOFFSETFROM:+0200
TZOFFSETTO:+0100
TZNAME:CET
DTSTART:20221030T010000
END:STANDARD
BEGIN:DAYLIGHT
TZOFFSETFROM:+0100
TZOFFSETTO:+0200
TZNAME:CEST
DTSTART:20230326T010000
END:DAYLIGHT
BEGIN:STANDARD
TZOFFSETFROM:+0200
TZOFFSETTO:+0100
TZNAME:CET
DTSTART:20231029T010000
END:STANDARD
BEGIN:DAYLIGHT
TZOFFSETFROM:+0100
TZOFFSETTO:+0200
TZNAME:CEST
DTSTART:20240331T010000
END:DAYLIGHT
BEGIN:STANDARD
TZOFFSETFROM:+0200
TZOFFSETTO:+0100
TZNAME:CET
DTSTART:20241027T010000
END:STANDARD
END:VTIMEZONE
BEGIN:VEVENT
DTSTART;TZID=Europe/Berlin:20221205T140000
DTEND;TZID=Europe/Berlin:20221205T153000
DTSTAMP:20260425T155051
CREATED:20221121T184012Z
LAST-MODIFIED:20221204T194020Z
UID:18183-1670248800-1670254200@mercator-gymnasium.de
SUMMARY:Steuergruppe
DESCRIPTION:
URL:https://mercator-gymnasium.de/event/steuergruppe/
END:VEVENT
BEGIN:VEVENT
DTSTART;TZID=Europe/Berlin:20221212T140000
DTEND;TZID=Europe/Berlin:20221212T170000
DTSTAMP:20260425T155051
CREATED:20221109T182509Z
LAST-MODIFIED:20221211T201137Z
UID:18054-1670853600-1670864400@mercator-gymnasium.de
SUMMARY:Lehrerkonferenz „Talentschule“ (der Unterricht endet nach der 6. Std.)
DESCRIPTION:
URL:https://mercator-gymnasium.de/event/lehrerkonferenz-talentschule-der-unterricht-endet-nach-der-6-std/
END:VEVENT
BEGIN:VEVENT
DTSTART;VALUE=DATE:20221215
DTEND;VALUE=DATE:20221216
DTSTAMP:20260425T155051
CREATED:20221206T195728Z
LAST-MODIFIED:20221210T201010Z
UID:18273-1671062400-1671148799@mercator-gymnasium.de
SUMMARY:DU-IT im Haus
DESCRIPTION:
URL:https://mercator-gymnasium.de/event/du-it-im-haus/
END:VEVENT
BEGIN:VEVENT
DTSTART;VALUE=DATE:20221223
DTEND;VALUE=DATE:20230107
DTSTAMP:20260425T155051
CREATED:20221211T201137Z
LAST-MODIFIED:20230106T212524Z
UID:18300-1671753600-1673049599@mercator-gymnasium.de
SUMMARY:Frohe Weihnachtsferien!
DESCRIPTION:
URL:https://mercator-gymnasium.de/event/frohe-weihnachtsferien/
END:VEVENT
END:VCALENDAR