BEGIN:VCALENDAR
VERSION:2.0
PRODID:-//Mercator-Gymnasium - ECPv6.15.20//NONSGML v1.0//EN
CALSCALE:GREGORIAN
METHOD:PUBLISH
X-ORIGINAL-URL:https://mercator-gymnasium.de
X-WR-CALDESC:Veranstaltungen für Mercator-Gymnasium
REFRESH-INTERVAL;VALUE=DURATION:PT1H
X-Robots-Tag:noindex
X-PUBLISHED-TTL:PT1H
BEGIN:VTIMEZONE
TZID:Europe/Berlin
BEGIN:DAYLIGHT
TZOFFSETFROM:+0100
TZOFFSETTO:+0200
TZNAME:CEST
DTSTART:20210328T010000
END:DAYLIGHT
BEGIN:STANDARD
TZOFFSETFROM:+0200
TZOFFSETTO:+0100
TZNAME:CET
DTSTART:20211031T010000
END:STANDARD
BEGIN:DAYLIGHT
TZOFFSETFROM:+0100
TZOFFSETTO:+0200
TZNAME:CEST
DTSTART:20220327T010000
END:DAYLIGHT
BEGIN:STANDARD
TZOFFSETFROM:+0200
TZOFFSETTO:+0100
TZNAME:CET
DTSTART:20221030T010000
END:STANDARD
BEGIN:DAYLIGHT
TZOFFSETFROM:+0100
TZOFFSETTO:+0200
TZNAME:CEST
DTSTART:20230326T010000
END:DAYLIGHT
BEGIN:STANDARD
TZOFFSETFROM:+0200
TZOFFSETTO:+0100
TZNAME:CET
DTSTART:20231029T010000
END:STANDARD
END:VTIMEZONE
BEGIN:VEVENT
DTSTART;VALUE=DATE:20221101
DTEND;VALUE=DATE:20221102
DTSTAMP:20260425T171923
CREATED:20221027T125638Z
LAST-MODIFIED:20221101T175538Z
UID:17828-1667260800-1667347199@mercator-gymnasium.de
SUMMARY:Allerheiligen (Feiertag\, unterrichtsfrei)
DESCRIPTION:
URL:https://mercator-gymnasium.de/event/allerheiligen-feiertag-unterrichtsfrei/
END:VEVENT
BEGIN:VEVENT
DTSTART;TZID=Europe/Berlin:20221104T150000
DTEND;TZID=Europe/Berlin:20221104T190000
DTSTAMP:20260425T171923
CREATED:20220810T084118Z
LAST-MODIFIED:20221104T175505Z
UID:17311-1667574000-1667588400@mercator-gymnasium.de
SUMMARY:Elternsprechtag
DESCRIPTION:
URL:https://mercator-gymnasium.de/event/elternsprechtag-5/
END:VEVENT
BEGIN:VEVENT
DTSTART;VALUE=DATE:20221116
DTEND;VALUE=DATE:20221117
DTSTAMP:20260425T171923
CREATED:20221114T182514Z
LAST-MODIFIED:20221116T182920Z
UID:18119-1668556800-1668643199@mercator-gymnasium.de
SUMMARY:Start Förderunterricht Klasse 5 (D/M/E)
DESCRIPTION:
URL:https://mercator-gymnasium.de/event/start-foerderunterricht-klasse-5-d-m-e/
END:VEVENT
BEGIN:VEVENT
DTSTART;VALUE=DATE:20221117
DTEND;VALUE=DATE:20221118
DTSTAMP:20260425T171923
CREATED:20221116T182920Z
LAST-MODIFIED:20221117T184024Z
UID:18127-1668643200-1668729599@mercator-gymnasium.de
SUMMARY:Jg. 8: Exkursion der Französisch- & Latein-Kurse nach Vervier (Belgien) und Xanten
DESCRIPTION:
URL:https://mercator-gymnasium.de/event/jg-8-exkursion-der-franzoesisch-latein-kurse-nach-vervier-belgien-und-xanten/
END:VEVENT
BEGIN:VEVENT
DTSTART;TZID=Europe/Berlin:20221117T090000
DTEND;TZID=Europe/Berlin:20221117T113000
DTSTAMP:20260425T171923
CREATED:20221116T182920Z
LAST-MODIFIED:20221116T182920Z
UID:18128-1668675600-1668684600@mercator-gymnasium.de
SUMMARY:Jg. 6 & Musikprofil: "Opernkiste Köln" zu Gast in der Aula
DESCRIPTION:
URL:https://mercator-gymnasium.de/event/jg-6-musikprofil-opernkiste-koeln-zu-gast-in-der-aula/
END:VEVENT
BEGIN:VEVENT
DTSTART;TZID=Europe/Berlin:20221119T090000
DTEND;TZID=Europe/Berlin:20221119T100000
DTSTAMP:20260425T171923
CREATED:20220821T091148Z
LAST-MODIFIED:20221118T184003Z
UID:17393-1668848400-1668852000@mercator-gymnasium.de
SUMMARY:Tag der offenen Tür
DESCRIPTION:
URL:https://mercator-gymnasium.de/event/tag-der-offenen-tuer-5/
END:VEVENT
BEGIN:VEVENT
DTSTART;TZID=Europe/Berlin:20221121T140000
DTEND;TZID=Europe/Berlin:20221121T150000
DTSTAMP:20260425T171923
CREATED:20221114T182514Z
LAST-MODIFIED:20221120T184033Z
UID:18120-1669039200-1669042800@mercator-gymnasium.de
SUMMARY:Steuergruppentreffen (Raum 110)
DESCRIPTION:
URL:https://mercator-gymnasium.de/event/steuergruppentreffen-raum-110/
END:VEVENT
BEGIN:VEVENT
DTSTART;VALUE=DATE:20221127
DTEND;VALUE=DATE:20221128
DTSTAMP:20260425T171923
CREATED:20220829T092605Z
LAST-MODIFIED:20221127T191013Z
UID:17489-1669507200-1669593599@mercator-gymnasium.de
SUMMARY:1. Advent
DESCRIPTION:
URL:https://mercator-gymnasium.de/event/1-advent/
END:VEVENT
BEGIN:VEVENT
DTSTART;TZID=Europe/Berlin:20221130T180000
DTEND;TZID=Europe/Berlin:20221130T190000
DTSTAMP:20260425T171923
CREATED:20221111T182506Z
LAST-MODIFIED:20221129T191001Z
UID:18110-1669831200-1669834800@mercator-gymnasium.de
SUMMARY:Informationsabend zur Gymnasialen Oberstufe (Bündelungsgymnasium - für alle Real- und Sekundarschüler*innen)
DESCRIPTION:
URL:https://mercator-gymnasium.de/event/informationsabend-zur-gymnasialen-oberstufe-buendelungsgymnasium-fuer-alle-real-und-sekundarschuelerinnen/
END:VEVENT
END:VCALENDAR