BEGIN:VCALENDAR
VERSION:2.0
PRODID:-//Mercator-Gymnasium - ECPv6.15.20//NONSGML v1.0//EN
CALSCALE:GREGORIAN
METHOD:PUBLISH
X-ORIGINAL-URL:https://mercator-gymnasium.de
X-WR-CALDESC:Veranstaltungen für Mercator-Gymnasium
REFRESH-INTERVAL;VALUE=DURATION:PT1H
X-Robots-Tag:noindex
X-PUBLISHED-TTL:PT1H
BEGIN:VTIMEZONE
TZID:Europe/Berlin
BEGIN:DAYLIGHT
TZOFFSETFROM:+0100
TZOFFSETTO:+0200
TZNAME:CEST
DTSTART:20210328T010000
END:DAYLIGHT
BEGIN:STANDARD
TZOFFSETFROM:+0200
TZOFFSETTO:+0100
TZNAME:CET
DTSTART:20211031T010000
END:STANDARD
BEGIN:DAYLIGHT
TZOFFSETFROM:+0100
TZOFFSETTO:+0200
TZNAME:CEST
DTSTART:20220327T010000
END:DAYLIGHT
BEGIN:STANDARD
TZOFFSETFROM:+0200
TZOFFSETTO:+0100
TZNAME:CET
DTSTART:20221030T010000
END:STANDARD
BEGIN:DAYLIGHT
TZOFFSETFROM:+0100
TZOFFSETTO:+0200
TZNAME:CEST
DTSTART:20230326T010000
END:DAYLIGHT
BEGIN:STANDARD
TZOFFSETFROM:+0200
TZOFFSETTO:+0100
TZNAME:CET
DTSTART:20231029T010000
END:STANDARD
END:VTIMEZONE
BEGIN:VEVENT
DTSTART;VALUE=DATE:20221018
DTEND;VALUE=DATE:20221021
DTSTAMP:20260425T185041
CREATED:20220810T084118Z
LAST-MODIFIED:20221020T121003Z
UID:17302-1666051200-1666310399@mercator-gymnasium.de
SUMMARY:Potenzialanalyse des Jahrgangs 8
DESCRIPTION:
URL:https://mercator-gymnasium.de/event/potenzialanalyse-des-jahrgangs-8/
END:VEVENT
BEGIN:VEVENT
DTSTART;VALUE=DATE:20221021
DTEND;VALUE=DATE:20221022
DTSTAMP:20260425T185041
CREATED:20220810T084118Z
LAST-MODIFIED:20221021T122520Z
UID:17304-1666310400-1666396799@mercator-gymnasium.de
SUMMARY:Auswertung Potenzialanalyse (Jahrgang 8; Einzelgespräche Eltern/Schüler*innen)
DESCRIPTION:
URL:https://mercator-gymnasium.de/event/auswertung-potenzialanalyse-jahrgang-8-einzelgespraeche-eltern-schuelerinnen/
END:VEVENT
BEGIN:VEVENT
DTSTART;TZID=Europe/Berlin:20221024T140000
DTEND;TZID=Europe/Berlin:20221024T153000
DTSTAMP:20260425T185041
CREATED:20220906T094341Z
LAST-MODIFIED:20221024T124115Z
UID:17541-1666620000-1666625400@mercator-gymnasium.de
SUMMARY:Steuergruppensitzung (Raum 110)
DESCRIPTION:
URL:https://mercator-gymnasium.de/event/steuergruppensitzung-raum-110/
END:VEVENT
BEGIN:VEVENT
DTSTART;VALUE=DATE:20221028
DTEND;VALUE=DATE:20221029
DTSTAMP:20260425T185041
CREATED:20220810T084118Z
LAST-MODIFIED:20221028T125821Z
UID:17306-1666915200-1667001599@mercator-gymnasium.de
SUMMARY:Ende des 1. Quartals (5-Q2)
DESCRIPTION:
URL:https://mercator-gymnasium.de/event/ende-des-1-quartals-5-q2/
END:VEVENT
BEGIN:VEVENT
DTSTART;TZID=Europe/Berlin:20221028T170000
DTEND;TZID=Europe/Berlin:20221028T210000
DTSTAMP:20260425T185041
CREATED:20221017T121004Z
LAST-MODIFIED:20221028T125821Z
UID:17796-1666976400-1666990800@mercator-gymnasium.de
SUMMARY:Halloween-Party der 5 & 6 (Turnhalle 1)
DESCRIPTION:
URL:https://mercator-gymnasium.de/event/halloween-party-der-5-6-turnhalle-1/
END:VEVENT
BEGIN:VEVENT
DTSTART;VALUE=DATE:20221031
DTEND;VALUE=DATE:20221101
DTSTAMP:20260425T185041
CREATED:20220810T084118Z
LAST-MODIFIED:20221031T175452Z
UID:17308-1667174400-1667260799@mercator-gymnasium.de
SUMMARY:Schulinterner Fortbildungstag (unterrichtsfrei für SuS)
DESCRIPTION:
URL:https://mercator-gymnasium.de/event/schulinterner-fortbildungstag-geplant-unterrichtsfrei-fuer-sus/
END:VEVENT
BEGIN:VEVENT
DTSTART;VALUE=DATE:20221101
DTEND;VALUE=DATE:20221102
DTSTAMP:20260425T185041
CREATED:20221027T125638Z
LAST-MODIFIED:20221101T175538Z
UID:17828-1667260800-1667347199@mercator-gymnasium.de
SUMMARY:Allerheiligen (Feiertag\, unterrichtsfrei)
DESCRIPTION:
URL:https://mercator-gymnasium.de/event/allerheiligen-feiertag-unterrichtsfrei/
END:VEVENT
END:VCALENDAR