BEGIN:VCALENDAR
VERSION:2.0
PRODID:-//Mercator-Gymnasium - ECPv6.15.20//NONSGML v1.0//EN
CALSCALE:GREGORIAN
METHOD:PUBLISH
X-ORIGINAL-URL:https://mercator-gymnasium.de
X-WR-CALDESC:Veranstaltungen für Mercator-Gymnasium
REFRESH-INTERVAL;VALUE=DURATION:PT1H
X-Robots-Tag:noindex
X-PUBLISHED-TTL:PT1H
BEGIN:VTIMEZONE
TZID:UTC
BEGIN:STANDARD
TZOFFSETFROM:+0000
TZOFFSETTO:+0000
TZNAME:UTC
DTSTART:20210101T000000
END:STANDARD
END:VTIMEZONE
BEGIN:VTIMEZONE
TZID:Europe/Berlin
BEGIN:DAYLIGHT
TZOFFSETFROM:+0100
TZOFFSETTO:+0200
TZNAME:CEST
DTSTART:20210328T010000
END:DAYLIGHT
BEGIN:STANDARD
TZOFFSETFROM:+0200
TZOFFSETTO:+0100
TZNAME:CET
DTSTART:20211031T010000
END:STANDARD
BEGIN:DAYLIGHT
TZOFFSETFROM:+0100
TZOFFSETTO:+0200
TZNAME:CEST
DTSTART:20220327T010000
END:DAYLIGHT
BEGIN:STANDARD
TZOFFSETFROM:+0200
TZOFFSETTO:+0100
TZNAME:CET
DTSTART:20221030T010000
END:STANDARD
BEGIN:DAYLIGHT
TZOFFSETFROM:+0100
TZOFFSETTO:+0200
TZNAME:CEST
DTSTART:20230326T010000
END:DAYLIGHT
BEGIN:STANDARD
TZOFFSETFROM:+0200
TZOFFSETTO:+0100
TZNAME:CET
DTSTART:20231029T010000
END:STANDARD
END:VTIMEZONE
BEGIN:VEVENT
DTSTART;VALUE=DATE:20220808
DTEND;VALUE=DATE:20220809
DTSTAMP:20260425T225942
CREATED:20220727T085125Z
LAST-MODIFIED:20220727T085125Z
UID:17232-1659916800-1660003199@mercator-gymnasium.de
SUMMARY:8 Uhr: Nachprüfungen (schriftl.)
DESCRIPTION:
URL:https://mercator-gymnasium.de/event/8-uhr-nachpruefungen-schriftl/
END:VEVENT
BEGIN:VEVENT
DTSTART;VALUE=DATE:20220808
DTEND;VALUE=DATE:20220809
DTSTAMP:20260425T225942
CREATED:20220727T085237Z
LAST-MODIFIED:20220727T085237Z
UID:17236-1659916800-1660003199@mercator-gymnasium.de
SUMMARY:8:30 Uhr: 1. Lehrerkonferenz
DESCRIPTION:
URL:https://mercator-gymnasium.de/event/830-uhr-1-lehrerkonferenz/
END:VEVENT
BEGIN:VEVENT
DTSTART;VALUE=DATE:20220809
DTEND;VALUE=DATE:20220810
DTSTAMP:20260425T225942
CREATED:20220727T085158Z
LAST-MODIFIED:20220727T085158Z
UID:17234-1660003200-1660089599@mercator-gymnasium.de
SUMMARY:ab 9:15 Uhr: Nachprüfungen (mdl.)
DESCRIPTION:
URL:https://mercator-gymnasium.de/event/ab-915-uhr-nachpruefungen-mdl/
END:VEVENT
BEGIN:VEVENT
DTSTART;TZID=Europe/Berlin:20220811T083000
DTEND;TZID=Europe/Berlin:20220811T093000
DTSTAMP:20260425T225942
CREATED:20220810T084118Z
LAST-MODIFIED:20220810T084118Z
UID:17284-1660206600-1660210200@mercator-gymnasium.de
SUMMARY:Einschulungsfeier neue 5er
DESCRIPTION:
URL:https://mercator-gymnasium.de/event/einschulungsfeier-neue-5er/
END:VEVENT
BEGIN:VEVENT
DTSTART;VALUE=DATE:20220815
DTEND;VALUE=DATE:20220816
DTSTAMP:20260425T225942
CREATED:20220810T084118Z
LAST-MODIFIED:20220815T085550Z
UID:17285-1660521600-1660607999@mercator-gymnasium.de
SUMMARY:Beginn des Nachmittagsunterrichts
DESCRIPTION:
URL:https://mercator-gymnasium.de/event/beginn-des-nachmittagsunterrichts/
END:VEVENT
BEGIN:VEVENT
DTSTART;VALUE=DATE:20220815
DTEND;VALUE=DATE:20220816
DTSTAMP:20260425T225942
CREATED:20220810T084118Z
LAST-MODIFIED:20220815T085550Z
UID:17286-1660521600-1660607999@mercator-gymnasium.de
SUMMARY:Start der Kurbel-Nachmittagsbetreuung
DESCRIPTION:
URL:https://mercator-gymnasium.de/event/start-der-kurbel-nachmittagsbetreuung/
END:VEVENT
BEGIN:VEVENT
DTSTART;VALUE=DATE:20220815
DTEND;VALUE=DATE:20220818
DTSTAMP:20260425T225942
CREATED:20220813T084011Z
LAST-MODIFIED:20220817T091010Z
UID:17354-1660521600-1660780799@mercator-gymnasium.de
SUMMARY:EF-Stufenfahrt
DESCRIPTION:
URL:https://mercator-gymnasium.de/event/ef-stufenfahrt/
END:VEVENT
BEGIN:VEVENT
DTSTART;VALUE=DATE:20220822
DTEND;VALUE=DATE:20220827
DTSTAMP:20260425T225942
CREATED:20220810T084118Z
LAST-MODIFIED:20220826T092628Z
UID:17287-1661126400-1661558399@mercator-gymnasium.de
SUMMARY:Q2-Leistungskurs-Fahrten
DESCRIPTION:
URL:https://mercator-gymnasium.de/event/q2-leistungskurs-fahrten/
END:VEVENT
BEGIN:VEVENT
DTSTART;VALUE=DATE:20220826
DTEND;VALUE=DATE:20220827
DTSTAMP:20260425T225942
CREATED:20220810T084118Z
LAST-MODIFIED:20220826T092628Z
UID:17288-1661472000-1661558399@mercator-gymnasium.de
SUMMARY:Notfallbogen/Datenschutz - letzte Abgabe
DESCRIPTION:
URL:https://mercator-gymnasium.de/event/notfallbogen-datenschutz-letzte-abgabe/
END:VEVENT
BEGIN:VEVENT
DTSTART;TZID=Europe/Berlin:20220829T180000
DTEND;TZID=Europe/Berlin:20220829T190000
DTSTAMP:20260425T225942
CREATED:20220810T084118Z
LAST-MODIFIED:20220829T092604Z
UID:17289-1661796000-1661799600@mercator-gymnasium.de
SUMMARY:Q1+Q2-Pflegschaft (Bio/Kunst)
DESCRIPTION:
URL:https://mercator-gymnasium.de/event/q1q2-pflegschaft-bio-kunst/
END:VEVENT
BEGIN:VEVENT
DTSTART;TZID=Europe/Berlin:20220829T180000
DTEND;TZID=Europe/Berlin:20220829T190000
DTSTAMP:20260425T225942
CREATED:20220810T084118Z
LAST-MODIFIED:20220829T092604Z
UID:17290-1661796000-1661799600@mercator-gymnasium.de
SUMMARY:EF-Pflegschaft (Aula)
DESCRIPTION:
URL:https://mercator-gymnasium.de/event/ef-pflegschaft/
END:VEVENT
BEGIN:VEVENT
DTSTART;TZID=Europe/Berlin:20220831T170000
DTEND;TZID=Europe/Berlin:20220831T190000
DTSTAMP:20260425T225942
CREATED:20220810T084118Z
LAST-MODIFIED:20220831T092511Z
UID:17292-1661965200-1661972400@mercator-gymnasium.de
SUMMARY:8er-Pflegschaft (Start: Aula\, Information zur Potenzialanalyse\, dann: Klassenräume)
DESCRIPTION:
URL:https://mercator-gymnasium.de/event/8er-pflegschaft-start-aula-potenzialanalyse-danach-klassenraeume/
END:VEVENT
BEGIN:VEVENT
DTSTART;TZID=Europe/Berlin:20220831T180000
DTEND;TZID=Europe/Berlin:20220831T200000
DTSTAMP:20260425T225942
CREATED:20220810T084118Z
LAST-MODIFIED:20220831T092511Z
UID:17291-1661968800-1661976000@mercator-gymnasium.de
SUMMARY:7+9er-Pflegschaften
DESCRIPTION:
URL:https://mercator-gymnasium.de/event/79er-pflegschaften/
END:VEVENT
END:VCALENDAR