BEGIN:VCALENDAR
VERSION:2.0
PRODID:-//Mercator-Gymnasium - ECPv6.15.20//NONSGML v1.0//EN
CALSCALE:GREGORIAN
METHOD:PUBLISH
X-WR-CALNAME:Mercator-Gymnasium
X-ORIGINAL-URL:https://mercator-gymnasium.de
X-WR-CALDESC:Veranstaltungen für Mercator-Gymnasium
REFRESH-INTERVAL;VALUE=DURATION:PT1H
X-Robots-Tag:noindex
X-PUBLISHED-TTL:PT1H
BEGIN:VTIMEZONE
TZID:Europe/Berlin
BEGIN:DAYLIGHT
TZOFFSETFROM:+0100
TZOFFSETTO:+0200
TZNAME:CEST
DTSTART:20250330T010000
END:DAYLIGHT
BEGIN:STANDARD
TZOFFSETFROM:+0200
TZOFFSETTO:+0100
TZNAME:CET
DTSTART:20251026T010000
END:STANDARD
BEGIN:DAYLIGHT
TZOFFSETFROM:+0100
TZOFFSETTO:+0200
TZNAME:CEST
DTSTART:20260329T010000
END:DAYLIGHT
BEGIN:STANDARD
TZOFFSETFROM:+0200
TZOFFSETTO:+0100
TZNAME:CET
DTSTART:20261025T010000
END:STANDARD
BEGIN:DAYLIGHT
TZOFFSETFROM:+0100
TZOFFSETTO:+0200
TZNAME:CEST
DTSTART:20270328T010000
END:DAYLIGHT
BEGIN:STANDARD
TZOFFSETFROM:+0200
TZOFFSETTO:+0100
TZNAME:CET
DTSTART:20271031T010000
END:STANDARD
END:VTIMEZONE
BEGIN:VEVENT
DTSTART;VALUE=DATE:20260424
DTEND;VALUE=DATE:20260425
DTSTAMP:20260424T093628
CREATED:20260124T163511Z
LAST-MODIFIED:20260319T193508Z
UID:24153-1776988800-1777075199@mercator-gymnasium.de
SUMMARY:Abi CH
DESCRIPTION:
URL:https://mercator-gymnasium.de/event/abi-ch/
END:VEVENT
BEGIN:VEVENT
DTSTART;VALUE=DATE:20260424
DTEND;VALUE=DATE:20260425
DTSTAMP:20260424T093628
CREATED:20260124T163511Z
LAST-MODIFIED:20260319T193508Z
UID:24154-1776988800-1777075199@mercator-gymnasium.de
SUMMARY:MERCATOR-Tag (1. Unterrichtstag 1901)
DESCRIPTION:
URL:https://mercator-gymnasium.de/event/mercator-tag-1-unterrichtstag-1901-5/
END:VEVENT
BEGIN:VEVENT
DTSTART;VALUE=DATE:20260425
DTEND;VALUE=DATE:20260427
DTSTAMP:20260424T093628
CREATED:20260125T163508Z
LAST-MODIFIED:20260319T193508Z
UID:24167-1777075200-1777247999@mercator-gymnasium.de
SUMMARY:Turnhalle 2 von Stadtsportbund belegt
DESCRIPTION:
URL:https://mercator-gymnasium.de/event/turnhalle-2-von-stadtsportbund-belegt/
END:VEVENT
BEGIN:VEVENT
DTSTART;VALUE=DATE:20260428
DTEND;VALUE=DATE:20260429
DTSTAMP:20260424T093628
CREATED:20260128T165034Z
LAST-MODIFIED:20260319T193508Z
UID:24173-1777334400-1777420799@mercator-gymnasium.de
SUMMARY:Abi D
DESCRIPTION:
URL:https://mercator-gymnasium.de/event/abi-d/
END:VEVENT
BEGIN:VEVENT
DTSTART;VALUE=DATE:20260430
DTEND;VALUE=DATE:20260501
DTSTAMP:20260424T093628
CREATED:20260130T170511Z
LAST-MODIFIED:20260319T193508Z
UID:24177-1777507200-1777593599@mercator-gymnasium.de
SUMMARY:Abi E
DESCRIPTION:
URL:https://mercator-gymnasium.de/event/abi-e/
END:VEVENT
BEGIN:VEVENT
DTSTART;TZID=Europe/Berlin:20260505T180000
DTEND;TZID=Europe/Berlin:20260505T190000
DTSTAMP:20260424T093628
CREATED:20260306T185007Z
LAST-MODIFIED:20260319T193508Z
UID:24340-1778004000-1778007600@mercator-gymnasium.de
SUMMARY:2. Schulpflegschaft
DESCRIPTION:
URL:https://mercator-gymnasium.de/event/2-schulpflegschaft-2/
END:VEVENT
BEGIN:VEVENT
DTSTART;VALUE=DATE:20260506
DTEND;VALUE=DATE:20260507
DTSTAMP:20260424T093628
CREATED:20260205T172014Z
LAST-MODIFIED:20260319T193508Z
UID:24200-1778025600-1778111999@mercator-gymnasium.de
SUMMARY:Abi M
DESCRIPTION:
URL:https://mercator-gymnasium.de/event/abi-m/
END:VEVENT
BEGIN:VEVENT
DTSTART;TZID=Europe/Berlin:20260508T150000
DTEND;TZID=Europe/Berlin:20260508T185500
DTSTAMP:20260424T093628
CREATED:20260207T172007Z
LAST-MODIFIED:20260319T193508Z
UID:24205-1778252400-1778266500@mercator-gymnasium.de
SUMMARY:Elternsprechtag
DESCRIPTION:
URL:https://mercator-gymnasium.de/event/elternsprechtag-13/
END:VEVENT
BEGIN:VEVENT
DTSTART;VALUE=DATE:20260513
DTEND;VALUE=DATE:20260514
DTSTAMP:20260424T093628
CREATED:20260212T172007Z
LAST-MODIFIED:20260319T193508Z
UID:24219-1778630400-1778716799@mercator-gymnasium.de
SUMMARY:ZP 10 Deutsch
DESCRIPTION:
URL:https://mercator-gymnasium.de/event/zp-10-deutsch-2/
END:VEVENT
BEGIN:VEVENT
DTSTART;VALUE=DATE:20260515
DTEND;VALUE=DATE:20260516
DTSTAMP:20260424T093628
CREATED:20260214T175007Z
LAST-MODIFIED:20260319T193508Z
UID:24235-1778803200-1778889599@mercator-gymnasium.de
SUMMARY:beweglicher Ferientag
DESCRIPTION:
URL:https://mercator-gymnasium.de/event/beweglicher-ferientag-9/
END:VEVENT
BEGIN:VEVENT
DTSTART;VALUE=DATE:20260519
DTEND;VALUE=DATE:20260520
DTSTAMP:20260424T093628
CREATED:20260218T175010Z
LAST-MODIFIED:20260319T193508Z
UID:24252-1779148800-1779235199@mercator-gymnasium.de
SUMMARY:ZP 10 Englisch
DESCRIPTION:
URL:https://mercator-gymnasium.de/event/zp-10-englisch-2/
END:VEVENT
BEGIN:VEVENT
DTSTART;TZID=Europe/Berlin:20260519T180000
DTEND;TZID=Europe/Berlin:20260519T200000
DTSTAMP:20260424T093628
CREATED:20260218T175010Z
LAST-MODIFIED:20260319T193508Z
UID:24251-1779213600-1779220800@mercator-gymnasium.de
SUMMARY:2. Schulkonferenz (Gebäudeöffnung ab 17:30 Uhr)
DESCRIPTION:
URL:https://mercator-gymnasium.de/event/2-schulkonferenz-gebaeudeoeffnung-ab-1730-uhr/
END:VEVENT
BEGIN:VEVENT
DTSTART;VALUE=DATE:20260528
DTEND;VALUE=DATE:20260529
DTSTAMP:20260424T093628
CREATED:20260227T182015Z
LAST-MODIFIED:20260319T193509Z
UID:24304-1779926400-1780012799@mercator-gymnasium.de
SUMMARY:ZP 10 Mathe
DESCRIPTION:
URL:https://mercator-gymnasium.de/event/zp-10-mathe/
END:VEVENT
BEGIN:VEVENT
DTSTART;VALUE=DATE:20260528
DTEND;VALUE=DATE:20260529
DTSTAMP:20260424T093628
CREATED:20260305T183605Z
LAST-MODIFIED:20260319T193509Z
UID:24332-1779926400-1780012799@mercator-gymnasium.de
SUMMARY:Q1: Vocatium
DESCRIPTION:
URL:https://mercator-gymnasium.de/event/q1-vocatium/
END:VEVENT
BEGIN:VEVENT
DTSTART;VALUE=DATE:20260529
DTEND;VALUE=DATE:20260530
DTSTAMP:20260424T093628
CREATED:20260228T183509Z
LAST-MODIFIED:20260319T193509Z
UID:24307-1780012800-1780099199@mercator-gymnasium.de
SUMMARY:EF: ZK D
DESCRIPTION:
URL:https://mercator-gymnasium.de/event/ef-zk-d-2/
END:VEVENT
BEGIN:VEVENT
DTSTART;VALUE=DATE:20260601
DTEND;VALUE=DATE:20260602
DTSTAMP:20260424T093628
CREATED:20260303T183509Z
LAST-MODIFIED:20260319T193509Z
UID:24324-1780272000-1780358399@mercator-gymnasium.de
SUMMARY:Jg. 9: Tag der Berufsfelderkundung
DESCRIPTION:
URL:https://mercator-gymnasium.de/event/jg-9-tag-der-berufsfelderkundung/
END:VEVENT
BEGIN:VEVENT
DTSTART;VALUE=DATE:20260601
DTEND;VALUE=DATE:20260602
DTSTAMP:20260424T093628
CREATED:20260303T183509Z
LAST-MODIFIED:20260319T193509Z
UID:24325-1780272000-1780358399@mercator-gymnasium.de
SUMMARY:mdl. Abitur (4. Fach) - unterrichtsfrei für Jg. 5-Q2
DESCRIPTION:
URL:https://mercator-gymnasium.de/event/mdl-abitur-4-fach-unterrichtsfrei-fuer-jg-5-q2/
END:VEVENT
BEGIN:VEVENT
DTSTART;VALUE=DATE:20260602
DTEND;VALUE=DATE:20260604
DTSTAMP:20260424T093628
CREATED:20260304T183510Z
LAST-MODIFIED:20260319T193509Z
UID:24330-1780358400-1780531199@mercator-gymnasium.de
SUMMARY:mdl. Abitur (4. Fach)
DESCRIPTION:
URL:https://mercator-gymnasium.de/event/mdl-abitur-4-fach/
END:VEVENT
BEGIN:VEVENT
DTSTART;VALUE=DATE:20260603
DTEND;VALUE=DATE:20260604
DTSTAMP:20260424T093628
CREATED:20260305T183605Z
LAST-MODIFIED:20260319T193509Z
UID:24335-1780444800-1780531199@mercator-gymnasium.de
SUMMARY:EF: ZK Mathe
DESCRIPTION:
URL:https://mercator-gymnasium.de/event/ef-zk-mathe/
END:VEVENT
BEGIN:VEVENT
DTSTART;VALUE=DATE:20260603
DTEND;VALUE=DATE:20260604
DTSTAMP:20260424T093628
CREATED:20260305T183605Z
LAST-MODIFIED:20260319T193509Z
UID:24334-1780444800-1780531199@mercator-gymnasium.de
SUMMARY:Jgst. EF & Q1: Crash-Kurs NRW (Präventionsprogramm)
DESCRIPTION:
URL:https://mercator-gymnasium.de/event/jgst-ef-q1-crash-kurs-nrw-praeventionsprogramm/
END:VEVENT
BEGIN:VEVENT
DTSTART;VALUE=DATE:20260605
DTEND;VALUE=DATE:20260606
DTSTAMP:20260424T093628
CREATED:20260307T190610Z
LAST-MODIFIED:20260319T193509Z
UID:24344-1780617600-1780703999@mercator-gymnasium.de
SUMMARY:beweglicher Ferientag
DESCRIPTION:
URL:https://mercator-gymnasium.de/event/beweglicher-ferientag-10/
END:VEVENT
END:VCALENDAR