BEGIN:VCALENDAR
VERSION:2.0
PRODID:-//Mercator-Gymnasium - ECPv6.15.20//NONSGML v1.0//EN
CALSCALE:GREGORIAN
METHOD:PUBLISH
X-ORIGINAL-URL:https://mercator-gymnasium.de
X-WR-CALDESC:Veranstaltungen für Mercator-Gymnasium
REFRESH-INTERVAL;VALUE=DURATION:PT1H
X-Robots-Tag:noindex
X-PUBLISHED-TTL:PT1H
BEGIN:VTIMEZONE
TZID:Europe/Berlin
BEGIN:DAYLIGHT
TZOFFSETFROM:+0100
TZOFFSETTO:+0200
TZNAME:CEST
DTSTART:20240331T010000
END:DAYLIGHT
BEGIN:STANDARD
TZOFFSETFROM:+0200
TZOFFSETTO:+0100
TZNAME:CET
DTSTART:20241027T010000
END:STANDARD
BEGIN:DAYLIGHT
TZOFFSETFROM:+0100
TZOFFSETTO:+0200
TZNAME:CEST
DTSTART:20250330T010000
END:DAYLIGHT
BEGIN:STANDARD
TZOFFSETFROM:+0200
TZOFFSETTO:+0100
TZNAME:CET
DTSTART:20251026T010000
END:STANDARD
BEGIN:DAYLIGHT
TZOFFSETFROM:+0100
TZOFFSETTO:+0200
TZNAME:CEST
DTSTART:20260329T010000
END:DAYLIGHT
BEGIN:STANDARD
TZOFFSETFROM:+0200
TZOFFSETTO:+0100
TZNAME:CET
DTSTART:20261025T010000
END:STANDARD
END:VTIMEZONE
BEGIN:VEVENT
DTSTART;VALUE=DATE:20251219
DTEND;VALUE=DATE:20251220
DTSTAMP:20260424T162229
CREATED:20250920T090507Z
LAST-MODIFIED:20251219T143511Z
UID:23690-1766102400-1766188799@mercator-gymnasium.de
SUMMARY:Ende des 1.HJ Q2
DESCRIPTION:
URL:https://mercator-gymnasium.de/event/ende-des-1-hj-q2/
END:VEVENT
BEGIN:VEVENT
DTSTART;TZID=Europe/Berlin:20251219T112000
DTEND;TZID=Europe/Berlin:20251219T122000
DTSTAMP:20260424T162229
CREATED:20250920T090507Z
LAST-MODIFIED:20251218T142011Z
UID:23691-1766143200-1766146800@mercator-gymnasium.de
SUMMARY:Letzter Schultag (Unterrichtsschluss für alle Jgst. 11:20 Uhr)
DESCRIPTION:
URL:https://mercator-gymnasium.de/event/letzter-schultag-unterrichtsschluss-fuer-alle-jgst-1225-2/
END:VEVENT
END:VCALENDAR