BEGIN:VCALENDAR
VERSION:2.0
PRODID:-//Mercator-Gymnasium - ECPv6.15.20//NONSGML v1.0//EN
CALSCALE:GREGORIAN
METHOD:PUBLISH
X-ORIGINAL-URL:https://mercator-gymnasium.de
X-WR-CALDESC:Veranstaltungen für Mercator-Gymnasium
REFRESH-INTERVAL;VALUE=DURATION:PT1H
X-Robots-Tag:noindex
X-PUBLISHED-TTL:PT1H
BEGIN:VTIMEZONE
TZID:Europe/Berlin
BEGIN:DAYLIGHT
TZOFFSETFROM:+0100
TZOFFSETTO:+0200
TZNAME:CEST
DTSTART:20240331T010000
END:DAYLIGHT
BEGIN:STANDARD
TZOFFSETFROM:+0200
TZOFFSETTO:+0100
TZNAME:CET
DTSTART:20241027T010000
END:STANDARD
BEGIN:DAYLIGHT
TZOFFSETFROM:+0100
TZOFFSETTO:+0200
TZNAME:CEST
DTSTART:20250330T010000
END:DAYLIGHT
BEGIN:STANDARD
TZOFFSETFROM:+0200
TZOFFSETTO:+0100
TZNAME:CET
DTSTART:20251026T010000
END:STANDARD
BEGIN:DAYLIGHT
TZOFFSETFROM:+0100
TZOFFSETTO:+0200
TZNAME:CEST
DTSTART:20260329T010000
END:DAYLIGHT
BEGIN:STANDARD
TZOFFSETFROM:+0200
TZOFFSETTO:+0100
TZNAME:CET
DTSTART:20261025T010000
END:STANDARD
END:VTIMEZONE
BEGIN:VEVENT
DTSTART;VALUE=DATE:20250910
DTEND;VALUE=DATE:20250913
DTSTAMP:20260424T202900
CREATED:20250612T063507Z
LAST-MODIFIED:20250912T085008Z
UID:23251-1757462400-1757721599@mercator-gymnasium.de
SUMMARY:Jg. EF Integrationsfahrt (10.-12-09.)
DESCRIPTION:
URL:https://mercator-gymnasium.de/event/jg-ef-integrationsfahrt-10-12-09/
END:VEVENT
BEGIN:VEVENT
DTSTART;TZID=Europe/Berlin:20250911T160000
DTEND;TZID=Europe/Berlin:20250911T170000
DTSTAMP:20260424T202900
CREATED:20250619T193647Z
LAST-MODIFIED:20250911T083508Z
UID:23291-1757606400-1757610000@mercator-gymnasium.de
SUMMARY:Klasse 5: Elterncafe
DESCRIPTION:
URL:https://mercator-gymnasium.de/event/klasse-5-elterncafe-2/
END:VEVENT
BEGIN:VEVENT
DTSTART;TZID=Europe/Berlin:20250911T170000
DTEND;TZID=Europe/Berlin:20250911T180000
DTSTAMP:20260424T202900
CREATED:20250619T193659Z
LAST-MODIFIED:20250911T083509Z
UID:23293-1757610000-1757613600@mercator-gymnasium.de
SUMMARY:Klasse 5: Profilvorstellung (Aula)+Pflegschaften
DESCRIPTION:
URL:https://mercator-gymnasium.de/event/klasse-5-profilvorstellung-aulapflegschaften-2/
END:VEVENT
BEGIN:VEVENT
DTSTART;TZID=Europe/Berlin:20250911T180000
DTEND;TZID=Europe/Berlin:20250911T190000
DTSTAMP:20260424T202900
CREATED:20250619T193659Z
LAST-MODIFIED:20250911T083509Z
UID:23292-1757613600-1757617200@mercator-gymnasium.de
SUMMARY:6er-Pflegschaften
DESCRIPTION:
URL:https://mercator-gymnasium.de/event/6er-pflegschaften-4/
END:VEVENT
END:VCALENDAR