BEGIN:VCALENDAR
VERSION:2.0
PRODID:-//Mercator-Gymnasium - ECPv6.15.20//NONSGML v1.0//EN
CALSCALE:GREGORIAN
METHOD:PUBLISH
X-ORIGINAL-URL:https://mercator-gymnasium.de
X-WR-CALDESC:Veranstaltungen für Mercator-Gymnasium
REFRESH-INTERVAL;VALUE=DURATION:PT1H
X-Robots-Tag:noindex
X-PUBLISHED-TTL:PT1H
BEGIN:VTIMEZONE
TZID:Europe/Berlin
BEGIN:DAYLIGHT
TZOFFSETFROM:+0100
TZOFFSETTO:+0200
TZNAME:CEST
DTSTART:20240331T010000
END:DAYLIGHT
BEGIN:STANDARD
TZOFFSETFROM:+0200
TZOFFSETTO:+0100
TZNAME:CET
DTSTART:20241027T010000
END:STANDARD
BEGIN:DAYLIGHT
TZOFFSETFROM:+0100
TZOFFSETTO:+0200
TZNAME:CEST
DTSTART:20250330T010000
END:DAYLIGHT
BEGIN:STANDARD
TZOFFSETFROM:+0200
TZOFFSETTO:+0100
TZNAME:CET
DTSTART:20251026T010000
END:STANDARD
BEGIN:DAYLIGHT
TZOFFSETFROM:+0100
TZOFFSETTO:+0200
TZNAME:CEST
DTSTART:20260329T010000
END:DAYLIGHT
BEGIN:STANDARD
TZOFFSETFROM:+0200
TZOFFSETTO:+0100
TZNAME:CET
DTSTART:20261025T010000
END:STANDARD
END:VTIMEZONE
BEGIN:VEVENT
DTSTART;VALUE=DATE:20250827
DTEND;VALUE=DATE:20250828
DTSTAMP:20260424T215659
CREATED:20250818T073607Z
LAST-MODIFIED:20250827T082009Z
UID:23514-1756252800-1756339199@mercator-gymnasium.de
SUMMARY:9:50 Uhr: Schulbeginn (Jgst. Q1)
DESCRIPTION:
URL:https://mercator-gymnasium.de/event/950-uhr-schulbeginn-jgst-q1/
END:VEVENT
BEGIN:VEVENT
DTSTART;VALUE=DATE:20250827
DTEND;VALUE=DATE:20250828
DTSTAMP:20260424T215659
CREATED:20250818T073607Z
LAST-MODIFIED:20250827T082009Z
UID:23515-1756252800-1756339199@mercator-gymnasium.de
SUMMARY:8 Uhr: Schulbeginn (Jgst. 6 bis 10 & Q2)
DESCRIPTION:
URL:https://mercator-gymnasium.de/event/8-uhr-schulbeginn-jgst-6-bis-10-q2/
END:VEVENT
BEGIN:VEVENT
DTSTART;VALUE=DATE:20250827
DTEND;VALUE=DATE:20250828
DTSTAMP:20260424T215659
CREATED:20250818T073607Z
LAST-MODIFIED:20250827T082009Z
UID:23513-1756252800-1756339199@mercator-gymnasium.de
SUMMARY:11:20 Uhr: Schulbeginn (Jgst. EF)
DESCRIPTION:
URL:https://mercator-gymnasium.de/event/1120-uhr-schulbeginn-jgst-ef/
END:VEVENT
END:VCALENDAR