BEGIN:VCALENDAR
VERSION:2.0
PRODID:-//Mercator-Gymnasium - ECPv6.15.20//NONSGML v1.0//EN
CALSCALE:GREGORIAN
METHOD:PUBLISH
X-WR-CALNAME:Mercator-Gymnasium
X-ORIGINAL-URL:https://mercator-gymnasium.de
X-WR-CALDESC:Veranstaltungen für Mercator-Gymnasium
REFRESH-INTERVAL;VALUE=DURATION:PT1H
X-Robots-Tag:noindex
X-PUBLISHED-TTL:PT1H
BEGIN:VTIMEZONE
TZID:Europe/Berlin
BEGIN:DAYLIGHT
TZOFFSETFROM:+0100
TZOFFSETTO:+0200
TZNAME:CEST
DTSTART:20240331T010000
END:DAYLIGHT
BEGIN:STANDARD
TZOFFSETFROM:+0200
TZOFFSETTO:+0100
TZNAME:CET
DTSTART:20241027T010000
END:STANDARD
BEGIN:DAYLIGHT
TZOFFSETFROM:+0100
TZOFFSETTO:+0200
TZNAME:CEST
DTSTART:20250330T010000
END:DAYLIGHT
BEGIN:STANDARD
TZOFFSETFROM:+0200
TZOFFSETTO:+0100
TZNAME:CET
DTSTART:20251026T010000
END:STANDARD
BEGIN:DAYLIGHT
TZOFFSETFROM:+0100
TZOFFSETTO:+0200
TZNAME:CEST
DTSTART:20260329T010000
END:DAYLIGHT
BEGIN:STANDARD
TZOFFSETFROM:+0200
TZOFFSETTO:+0100
TZNAME:CET
DTSTART:20261025T010000
END:STANDARD
END:VTIMEZONE
BEGIN:VEVENT
DTSTART;VALUE=DATE:20250707
DTEND;VALUE=DATE:20250712
DTSTAMP:20260424T231007
CREATED:20250408T230506Z
LAST-MODIFIED:20250711T052013Z
UID:22891-1751846400-1752278399@mercator-gymnasium.de
SUMMARY:Klassenfahrt 10 (Zeugnisausgabe Fr.Nachmittag)
DESCRIPTION:
URL:https://mercator-gymnasium.de/event/klassenfahrt-10-zeugnisausgabe-fr-nachmittag/
END:VEVENT
BEGIN:VEVENT
DTSTART;TZID=Europe/Berlin:20250711T080000
DTEND;TZID=Europe/Berlin:20250711T093000
DTSTAMP:20260424T231007
CREATED:20250412T230548Z
LAST-MODIFIED:20250711T052013Z
UID:22913-1752220800-1752226200@mercator-gymnasium.de
SUMMARY:1./2. Std. Mercator Sauber-Zauber
DESCRIPTION:
URL:https://mercator-gymnasium.de/event/1-2-std-mercator-sauber-zauber-3/
END:VEVENT
BEGIN:VEVENT
DTSTART;TZID=Europe/Berlin:20250711T100000
DTEND;TZID=Europe/Berlin:20250711T110000
DTSTAMP:20260424T231007
CREATED:20250412T230548Z
LAST-MODIFIED:20250711T052013Z
UID:22914-1752228000-1752231600@mercator-gymnasium.de
SUMMARY:Zeugnisausgabe in der 3. Std. (5-Q1)
DESCRIPTION:
URL:https://mercator-gymnasium.de/event/zeugnisausgabe-in-der-3-std-5-q1-2/
END:VEVENT
END:VCALENDAR