BEGIN:VCALENDAR
VERSION:2.0
PRODID:-//Mercator-Gymnasium - ECPv6.15.20//NONSGML v1.0//EN
CALSCALE:GREGORIAN
METHOD:PUBLISH
X-ORIGINAL-URL:https://mercator-gymnasium.de
X-WR-CALDESC:Veranstaltungen für Mercator-Gymnasium
REFRESH-INTERVAL;VALUE=DURATION:PT1H
X-Robots-Tag:noindex
X-PUBLISHED-TTL:PT1H
BEGIN:VTIMEZONE
TZID:Europe/Berlin
BEGIN:DAYLIGHT
TZOFFSETFROM:+0100
TZOFFSETTO:+0200
TZNAME:CEST
DTSTART:20240331T010000
END:DAYLIGHT
BEGIN:STANDARD
TZOFFSETFROM:+0200
TZOFFSETTO:+0100
TZNAME:CET
DTSTART:20241027T010000
END:STANDARD
BEGIN:DAYLIGHT
TZOFFSETFROM:+0100
TZOFFSETTO:+0200
TZNAME:CEST
DTSTART:20250330T010000
END:DAYLIGHT
BEGIN:STANDARD
TZOFFSETFROM:+0200
TZOFFSETTO:+0100
TZNAME:CET
DTSTART:20251026T010000
END:STANDARD
BEGIN:DAYLIGHT
TZOFFSETFROM:+0100
TZOFFSETTO:+0200
TZNAME:CEST
DTSTART:20260329T010000
END:DAYLIGHT
BEGIN:STANDARD
TZOFFSETFROM:+0200
TZOFFSETTO:+0100
TZNAME:CET
DTSTART:20261025T010000
END:STANDARD
END:VTIMEZONE
BEGIN:VEVENT
DTSTART;TZID=Europe/Berlin:20250527T090000
DTEND;TZID=Europe/Berlin:20250527T114500
DTSTAMP:20260425T004212
CREATED:20250226T200507Z
LAST-MODIFIED:20250527T062008Z
UID:22678-1748336400-1748346300@mercator-gymnasium.de
SUMMARY:ZP 10 - Deutsch
DESCRIPTION:
URL:https://mercator-gymnasium.de/event/zp-10-deutsch/
END:VEVENT
BEGIN:VEVENT
DTSTART;TZID=Europe/Berlin:20250527T121500
DTEND;TZID=Europe/Berlin:20250527T161500
DTSTAMP:20260425T004212
CREATED:20250226T200507Z
LAST-MODIFIED:20250527T062008Z
UID:22677-1748348100-1748362500@mercator-gymnasium.de
SUMMARY:5. Kollegiumskonferenz (unterrichtsfrei nach der 4. Stunde)
DESCRIPTION:
URL:https://mercator-gymnasium.de/event/4-kollegiumskonferenz-unterrichtsfrei-nach-der-6-stunde/
END:VEVENT
END:VCALENDAR