BEGIN:VCALENDAR
VERSION:2.0
PRODID:-//Mercator-Gymnasium - ECPv6.15.20//NONSGML v1.0//EN
CALSCALE:GREGORIAN
METHOD:PUBLISH
X-ORIGINAL-URL:https://mercator-gymnasium.de
X-WR-CALDESC:Veranstaltungen für Mercator-Gymnasium
REFRESH-INTERVAL;VALUE=DURATION:PT1H
X-Robots-Tag:noindex
X-PUBLISHED-TTL:PT1H
BEGIN:VTIMEZONE
TZID:Europe/Berlin
BEGIN:DAYLIGHT
TZOFFSETFROM:+0100
TZOFFSETTO:+0200
TZNAME:CEST
DTSTART:20230326T010000
END:DAYLIGHT
BEGIN:STANDARD
TZOFFSETFROM:+0200
TZOFFSETTO:+0100
TZNAME:CET
DTSTART:20231029T010000
END:STANDARD
BEGIN:DAYLIGHT
TZOFFSETFROM:+0100
TZOFFSETTO:+0200
TZNAME:CEST
DTSTART:20240331T010000
END:DAYLIGHT
BEGIN:STANDARD
TZOFFSETFROM:+0200
TZOFFSETTO:+0100
TZNAME:CET
DTSTART:20241027T010000
END:STANDARD
BEGIN:DAYLIGHT
TZOFFSETFROM:+0100
TZOFFSETTO:+0200
TZNAME:CEST
DTSTART:20250330T010000
END:DAYLIGHT
BEGIN:STANDARD
TZOFFSETFROM:+0200
TZOFFSETTO:+0100
TZNAME:CET
DTSTART:20251026T010000
END:STANDARD
END:VTIMEZONE
BEGIN:VEVENT
DTSTART;TZID=Europe/Berlin:20240910T160000
DTEND;TZID=Europe/Berlin:20240910T172000
DTSTAMP:20260424T110225
CREATED:20240808T102047Z
LAST-MODIFIED:20240910T103509Z
UID:21686-1725984000-1725988800@mercator-gymnasium.de
SUMMARY:Klasse 5: Elterncafe
DESCRIPTION:
URL:https://mercator-gymnasium.de/event/klasse-5-elterncafe/
END:VEVENT
BEGIN:VEVENT
DTSTART;TZID=Europe/Berlin:20240910T170000
DTEND;TZID=Europe/Berlin:20240910T180000
DTSTAMP:20260424T110225
CREATED:20240808T102047Z
LAST-MODIFIED:20240910T103509Z
UID:21687-1725987600-1725991200@mercator-gymnasium.de
SUMMARY:Klasse 5: Profilvorstellung (Aula)+Pflegschaften
DESCRIPTION:
URL:https://mercator-gymnasium.de/event/klasse-5-profilvorstellung-aulapflegschaften/
END:VEVENT
BEGIN:VEVENT
DTSTART;TZID=Europe/Berlin:20240910T180000
DTEND;TZID=Europe/Berlin:20240910T200000
DTSTAMP:20260424T110225
CREATED:20240808T102047Z
LAST-MODIFIED:20240910T103509Z
UID:21688-1725991200-1725998400@mercator-gymnasium.de
SUMMARY:6er-Pflegschaften
DESCRIPTION:
URL:https://mercator-gymnasium.de/event/6er-pflegschaften-3/
END:VEVENT
END:VCALENDAR