BEGIN:VCALENDAR
VERSION:2.0
PRODID:-//Mercator-Gymnasium - ECPv6.15.20//NONSGML v1.0//EN
CALSCALE:GREGORIAN
METHOD:PUBLISH
X-WR-CALNAME:Mercator-Gymnasium
X-ORIGINAL-URL:https://mercator-gymnasium.de
X-WR-CALDESC:Veranstaltungen für Mercator-Gymnasium
REFRESH-INTERVAL;VALUE=DURATION:PT1H
X-Robots-Tag:noindex
X-PUBLISHED-TTL:PT1H
BEGIN:VTIMEZONE
TZID:Europe/Berlin
BEGIN:DAYLIGHT
TZOFFSETFROM:+0100
TZOFFSETTO:+0200
TZNAME:CEST
DTSTART:20230326T010000
END:DAYLIGHT
BEGIN:STANDARD
TZOFFSETFROM:+0200
TZOFFSETTO:+0100
TZNAME:CET
DTSTART:20231029T010000
END:STANDARD
BEGIN:DAYLIGHT
TZOFFSETFROM:+0100
TZOFFSETTO:+0200
TZNAME:CEST
DTSTART:20240331T010000
END:DAYLIGHT
BEGIN:STANDARD
TZOFFSETFROM:+0200
TZOFFSETTO:+0100
TZNAME:CET
DTSTART:20241027T010000
END:STANDARD
BEGIN:DAYLIGHT
TZOFFSETFROM:+0100
TZOFFSETTO:+0200
TZNAME:CEST
DTSTART:20250330T010000
END:DAYLIGHT
BEGIN:STANDARD
TZOFFSETFROM:+0200
TZOFFSETTO:+0100
TZNAME:CET
DTSTART:20251026T010000
END:STANDARD
END:VTIMEZONE
BEGIN:VEVENT
DTSTART;VALUE=DATE:20240826
DTEND;VALUE=DATE:20240827
DTSTAMP:20260424T105640
CREATED:20240807T102008Z
LAST-MODIFIED:20240826T103509Z
UID:21679-1724630400-1724716799@mercator-gymnasium.de
SUMMARY:Beginn des Nachmittagsunterrichts
DESCRIPTION:
URL:https://mercator-gymnasium.de/event/beginn-des-nachmittagsunterrichts-3/
END:VEVENT
BEGIN:VEVENT
DTSTART;TZID=Europe/Berlin:20240826T140000
DTEND;TZID=Europe/Berlin:20240826T153000
DTSTAMP:20260424T105640
CREATED:20240808T102045Z
LAST-MODIFIED:20240826T103509Z
UID:21682-1724680800-1724686200@mercator-gymnasium.de
SUMMARY:Beginn der Kurbel-Nachmittagsbetreuung
DESCRIPTION:
URL:https://mercator-gymnasium.de/event/beginn-der-kurbel-nachmittagsbetreuung/
END:VEVENT
END:VCALENDAR