BEGIN:VCALENDAR
VERSION:2.0
PRODID:-//Mercator-Gymnasium - ECPv6.15.20//NONSGML v1.0//EN
CALSCALE:GREGORIAN
METHOD:PUBLISH
X-ORIGINAL-URL:https://mercator-gymnasium.de
X-WR-CALDESC:Veranstaltungen für Mercator-Gymnasium
REFRESH-INTERVAL;VALUE=DURATION:PT1H
X-Robots-Tag:noindex
X-PUBLISHED-TTL:PT1H
BEGIN:VTIMEZONE
TZID:Europe/Berlin
BEGIN:DAYLIGHT
TZOFFSETFROM:+0100
TZOFFSETTO:+0200
TZNAME:CEST
DTSTART:20220327T010000
END:DAYLIGHT
BEGIN:STANDARD
TZOFFSETFROM:+0200
TZOFFSETTO:+0100
TZNAME:CET
DTSTART:20221030T010000
END:STANDARD
BEGIN:DAYLIGHT
TZOFFSETFROM:+0100
TZOFFSETTO:+0200
TZNAME:CEST
DTSTART:20230326T010000
END:DAYLIGHT
BEGIN:STANDARD
TZOFFSETFROM:+0200
TZOFFSETTO:+0100
TZNAME:CET
DTSTART:20231029T010000
END:STANDARD
BEGIN:DAYLIGHT
TZOFFSETFROM:+0100
TZOFFSETTO:+0200
TZNAME:CEST
DTSTART:20240331T010000
END:DAYLIGHT
BEGIN:STANDARD
TZOFFSETFROM:+0200
TZOFFSETTO:+0100
TZNAME:CET
DTSTART:20241027T010000
END:STANDARD
END:VTIMEZONE
BEGIN:VEVENT
DTSTART;TZID=Europe/Berlin:20231218T163000
DTEND;TZID=Europe/Berlin:20231218T174500
DTSTAMP:20260425T000237
CREATED:20231017T185206Z
LAST-MODIFIED:20231218T073049Z
UID:20000-1702917000-1702921500@mercator-gymnasium.de
SUMMARY:Eltern-Café
DESCRIPTION:
URL:https://mercator-gymnasium.de/event/eltern-cafe/
END:VEVENT
BEGIN:VEVENT
DTSTART;TZID=Europe/Berlin:20231218T180000
DTEND;TZID=Europe/Berlin:20231218T200000
DTSTAMP:20260425T000237
CREATED:20231017T185206Z
LAST-MODIFIED:20231218T073049Z
UID:20001-1702922400-1702929600@mercator-gymnasium.de
SUMMARY:Weihnachtskonzert
DESCRIPTION:
URL:https://mercator-gymnasium.de/event/weihnachtskonzert-4/
END:VEVENT
END:VCALENDAR