BEGIN:VCALENDAR
VERSION:2.0
PRODID:-//Mercator-Gymnasium - ECPv6.15.20//NONSGML v1.0//EN
CALSCALE:GREGORIAN
METHOD:PUBLISH
X-ORIGINAL-URL:https://mercator-gymnasium.de
X-WR-CALDESC:Veranstaltungen für Mercator-Gymnasium
REFRESH-INTERVAL;VALUE=DURATION:PT1H
X-Robots-Tag:noindex
X-PUBLISHED-TTL:PT1H
BEGIN:VTIMEZONE
TZID:Europe/Berlin
BEGIN:DAYLIGHT
TZOFFSETFROM:+0100
TZOFFSETTO:+0200
TZNAME:CEST
DTSTART:20220327T010000
END:DAYLIGHT
BEGIN:STANDARD
TZOFFSETFROM:+0200
TZOFFSETTO:+0100
TZNAME:CET
DTSTART:20221030T010000
END:STANDARD
BEGIN:DAYLIGHT
TZOFFSETFROM:+0100
TZOFFSETTO:+0200
TZNAME:CEST
DTSTART:20230326T010000
END:DAYLIGHT
BEGIN:STANDARD
TZOFFSETFROM:+0200
TZOFFSETTO:+0100
TZNAME:CET
DTSTART:20231029T010000
END:STANDARD
BEGIN:DAYLIGHT
TZOFFSETFROM:+0100
TZOFFSETTO:+0200
TZNAME:CEST
DTSTART:20240331T010000
END:DAYLIGHT
BEGIN:STANDARD
TZOFFSETFROM:+0200
TZOFFSETTO:+0100
TZNAME:CET
DTSTART:20241027T010000
END:STANDARD
END:VTIMEZONE
BEGIN:VEVENT
DTSTART;TZID=Europe/Berlin:20230830T114500
DTEND;TZID=Europe/Berlin:20230830T131000
DTSTAMP:20260425T043010
CREATED:20230629T134132Z
LAST-MODIFIED:20230811T143014Z
UID:19534-1693395900-1693401000@mercator-gymnasium.de
SUMMARY:Schülerratssitzung (Aula) / Wahlen Schülersprecher*in und Team
DESCRIPTION:
URL:https://mercator-gymnasium.de/event/schuelerratssitzung-aula-wahlen-schuelersprecherin-und-team-2/
END:VEVENT
BEGIN:VEVENT
DTSTART;TZID=Europe/Berlin:20230830T170000
DTEND;TZID=Europe/Berlin:20230830T190000
DTSTAMP:20260425T043010
CREATED:20230724T141549Z
LAST-MODIFIED:20230811T143014Z
UID:19623-1693414800-1693422000@mercator-gymnasium.de
SUMMARY:8er-Pflegschaft (Start: Aula\, Information zur Potenzialanalyse\, dann: Klassenräume)
DESCRIPTION:
URL:https://mercator-gymnasium.de/event/8er-pflegschaft-start-aula-information-zur-potenzialanalyse-dann-klassenraeume/
END:VEVENT
BEGIN:VEVENT
DTSTART;TZID=Europe/Berlin:20230830T180000
DTEND;TZID=Europe/Berlin:20230830T200000
DTSTAMP:20260425T043010
CREATED:20230724T141549Z
LAST-MODIFIED:20230811T143014Z
UID:19622-1693418400-1693425600@mercator-gymnasium.de
SUMMARY:7+9+10er-Pflegschaften
DESCRIPTION:
URL:https://mercator-gymnasium.de/event/79er-pflegschaften-2/
END:VEVENT
END:VCALENDAR