BEGIN:VCALENDAR
VERSION:2.0
PRODID:-//Mercator-Gymnasium - ECPv6.15.20//NONSGML v1.0//EN
CALSCALE:GREGORIAN
METHOD:PUBLISH
X-ORIGINAL-URL:https://mercator-gymnasium.de
X-WR-CALDESC:Veranstaltungen für Mercator-Gymnasium
REFRESH-INTERVAL;VALUE=DURATION:PT1H
X-Robots-Tag:noindex
X-PUBLISHED-TTL:PT1H
BEGIN:VTIMEZONE
TZID:Europe/Berlin
BEGIN:DAYLIGHT
TZOFFSETFROM:+0100
TZOFFSETTO:+0200
TZNAME:CEST
DTSTART:20220327T010000
END:DAYLIGHT
BEGIN:STANDARD
TZOFFSETFROM:+0200
TZOFFSETTO:+0100
TZNAME:CET
DTSTART:20221030T010000
END:STANDARD
BEGIN:DAYLIGHT
TZOFFSETFROM:+0100
TZOFFSETTO:+0200
TZNAME:CEST
DTSTART:20230326T010000
END:DAYLIGHT
BEGIN:STANDARD
TZOFFSETFROM:+0200
TZOFFSETTO:+0100
TZNAME:CET
DTSTART:20231029T010000
END:STANDARD
BEGIN:DAYLIGHT
TZOFFSETFROM:+0100
TZOFFSETTO:+0200
TZNAME:CEST
DTSTART:20240331T010000
END:DAYLIGHT
BEGIN:STANDARD
TZOFFSETFROM:+0200
TZOFFSETTO:+0100
TZNAME:CET
DTSTART:20241027T010000
END:STANDARD
END:VTIMEZONE
BEGIN:VEVENT
DTSTART;TZID=Europe/Berlin:20230829T160000
DTEND;TZID=Europe/Berlin:20230829T172000
DTSTAMP:20260425T043012
CREATED:20230629T134132Z
LAST-MODIFIED:20230811T143014Z
UID:19535-1693324800-1693329600@mercator-gymnasium.de
SUMMARY:5er-Elterncafe
DESCRIPTION:
URL:https://mercator-gymnasium.de/event/5er-elterncafe/
END:VEVENT
BEGIN:VEVENT
DTSTART;TZID=Europe/Berlin:20230829T170000
DTEND;TZID=Europe/Berlin:20230829T193000
DTSTAMP:20260425T043012
CREATED:20220810T084118Z
LAST-MODIFIED:20230811T143014Z
UID:17293-1693328400-1693337400@mercator-gymnasium.de
SUMMARY:5er-Profilvorstellung (Aula)+Pflegschaften
DESCRIPTION:
URL:https://mercator-gymnasium.de/event/5er-profilvorstellung-aulapflegschaften/
END:VEVENT
BEGIN:VEVENT
DTSTART;TZID=Europe/Berlin:20230829T180000
DTEND;TZID=Europe/Berlin:20230829T200000
DTSTAMP:20260425T043012
CREATED:20230629T134132Z
LAST-MODIFIED:20230811T143014Z
UID:19536-1693332000-1693339200@mercator-gymnasium.de
SUMMARY:6er-Pflegschaften
DESCRIPTION:
URL:https://mercator-gymnasium.de/event/6er-pflegschaften-2/
END:VEVENT
END:VCALENDAR