BEGIN:VCALENDAR
VERSION:2.0
PRODID:-//Mercator-Gymnasium - ECPv6.15.20//NONSGML v1.0//EN
CALSCALE:GREGORIAN
METHOD:PUBLISH
X-ORIGINAL-URL:https://mercator-gymnasium.de
X-WR-CALDESC:Veranstaltungen für Mercator-Gymnasium
REFRESH-INTERVAL;VALUE=DURATION:PT1H
X-Robots-Tag:noindex
X-PUBLISHED-TTL:PT1H
BEGIN:VTIMEZONE
TZID:Europe/Berlin
BEGIN:DAYLIGHT
TZOFFSETFROM:+0100
TZOFFSETTO:+0200
TZNAME:CEST
DTSTART:20220327T010000
END:DAYLIGHT
BEGIN:STANDARD
TZOFFSETFROM:+0200
TZOFFSETTO:+0100
TZNAME:CET
DTSTART:20221030T010000
END:STANDARD
BEGIN:DAYLIGHT
TZOFFSETFROM:+0100
TZOFFSETTO:+0200
TZNAME:CEST
DTSTART:20230326T010000
END:DAYLIGHT
BEGIN:STANDARD
TZOFFSETFROM:+0200
TZOFFSETTO:+0100
TZNAME:CET
DTSTART:20231029T010000
END:STANDARD
BEGIN:DAYLIGHT
TZOFFSETFROM:+0100
TZOFFSETTO:+0200
TZNAME:CEST
DTSTART:20240331T010000
END:DAYLIGHT
BEGIN:STANDARD
TZOFFSETFROM:+0200
TZOFFSETTO:+0100
TZNAME:CET
DTSTART:20241027T010000
END:STANDARD
END:VTIMEZONE
BEGIN:VEVENT
DTSTART;VALUE=DATE:20230522
DTEND;VALUE=DATE:20230523
DTSTAMP:20260425T101932
CREATED:20230221T235532Z
LAST-MODIFIED:20230221T235532Z
UID:18737-1684713600-1684799999@mercator-gymnasium.de
SUMMARY:Jg. 8: Berufsfelderkundung I
DESCRIPTION:
URL:https://mercator-gymnasium.de/event/jg-8-berufsfelderkundung-i-2/
END:VEVENT
BEGIN:VEVENT
DTSTART;VALUE=DATE:20230522
DTEND;VALUE=DATE:20230523
DTSTAMP:20260425T101932
CREATED:20230329T075505Z
LAST-MODIFIED:20230522T125504Z
UID:18904-1684713600-1684799999@mercator-gymnasium.de
SUMMARY:Abitur 4. Fach (unterrichtsfrei mit Ausnahme Jg. 8 Berufsfelderkundung\, EF Englisch-Klausuren)
DESCRIPTION:
URL:https://mercator-gymnasium.de/event/abitur-4-fach-unterrichtsfrei-mit-ausnahme-jg-8-berufsfelderkundung-und-ggf-klausurschreiber/
END:VEVENT
END:VCALENDAR