BEGIN:VCALENDAR
VERSION:2.0
PRODID:-//Mercator-Gymnasium - ECPv6.15.20//NONSGML v1.0//EN
CALSCALE:GREGORIAN
METHOD:PUBLISH
X-WR-CALNAME:Mercator-Gymnasium
X-ORIGINAL-URL:https://mercator-gymnasium.de
X-WR-CALDESC:Veranstaltungen für Mercator-Gymnasium
REFRESH-INTERVAL;VALUE=DURATION:PT1H
X-Robots-Tag:noindex
X-PUBLISHED-TTL:PT1H
BEGIN:VTIMEZONE
TZID:Europe/Berlin
BEGIN:DAYLIGHT
TZOFFSETFROM:+0100
TZOFFSETTO:+0200
TZNAME:CEST
DTSTART:20220327T010000
END:DAYLIGHT
BEGIN:STANDARD
TZOFFSETFROM:+0200
TZOFFSETTO:+0100
TZNAME:CET
DTSTART:20221030T010000
END:STANDARD
BEGIN:DAYLIGHT
TZOFFSETFROM:+0100
TZOFFSETTO:+0200
TZNAME:CEST
DTSTART:20230326T010000
END:DAYLIGHT
BEGIN:STANDARD
TZOFFSETFROM:+0200
TZOFFSETTO:+0100
TZNAME:CET
DTSTART:20231029T010000
END:STANDARD
BEGIN:DAYLIGHT
TZOFFSETFROM:+0100
TZOFFSETTO:+0200
TZNAME:CEST
DTSTART:20240331T010000
END:DAYLIGHT
BEGIN:STANDARD
TZOFFSETFROM:+0200
TZOFFSETTO:+0100
TZNAME:CET
DTSTART:20241027T010000
END:STANDARD
END:VTIMEZONE
BEGIN:VEVENT
DTSTART;VALUE=DATE:20230123
DTEND;VALUE=DATE:20230124
DTSTAMP:20260425T154254
CREATED:20221025T125503Z
LAST-MODIFIED:20230123T214137Z
UID:17817-1674432000-1674518399@mercator-gymnasium.de
SUMMARY:Schulinterner Fortbildungstag "Digitale Unterrichtsentwicklung" (unterrichtsfrei für SuS)
DESCRIPTION:
URL:https://mercator-gymnasium.de/event/schulinterner-fortbildungstag-geplant-unterrichtsfrei-fuer-sus-2/
END:VEVENT
BEGIN:VEVENT
DTSTART;VALUE=DATE:20230123
DTEND;VALUE=DATE:20230128
DTSTAMP:20260425T154254
CREATED:20221025T125503Z
LAST-MODIFIED:20230127T221125Z
UID:17818-1674432000-1674863999@mercator-gymnasium.de
SUMMARY:14-18 Uhr: ANMELDUNGEN neue 5 und EF (Bündelungsjahrgang)
DESCRIPTION:
URL:https://mercator-gymnasium.de/event/14-18-uhr-anmeldungen-neue-5-und-ef-buendelungsjahrgang/
END:VEVENT
END:VCALENDAR