BEGIN:VCALENDAR
VERSION:2.0
PRODID:-//Mercator-Gymnasium - ECPv6.15.20//NONSGML v1.0//EN
CALSCALE:GREGORIAN
METHOD:PUBLISH
X-WR-CALNAME:Mercator-Gymnasium
X-ORIGINAL-URL:https://mercator-gymnasium.de
X-WR-CALDESC:Veranstaltungen für Mercator-Gymnasium
REFRESH-INTERVAL;VALUE=DURATION:PT1H
X-Robots-Tag:noindex
X-PUBLISHED-TTL:PT1H
BEGIN:VTIMEZONE
TZID:Europe/Berlin
BEGIN:DAYLIGHT
TZOFFSETFROM:+0100
TZOFFSETTO:+0200
TZNAME:CEST
DTSTART:20220327T010000
END:DAYLIGHT
BEGIN:STANDARD
TZOFFSETFROM:+0200
TZOFFSETTO:+0100
TZNAME:CET
DTSTART:20221030T010000
END:STANDARD
BEGIN:DAYLIGHT
TZOFFSETFROM:+0100
TZOFFSETTO:+0200
TZNAME:CEST
DTSTART:20230326T010000
END:DAYLIGHT
BEGIN:STANDARD
TZOFFSETFROM:+0200
TZOFFSETTO:+0100
TZNAME:CET
DTSTART:20231029T010000
END:STANDARD
BEGIN:DAYLIGHT
TZOFFSETFROM:+0100
TZOFFSETTO:+0200
TZNAME:CEST
DTSTART:20240331T010000
END:DAYLIGHT
BEGIN:STANDARD
TZOFFSETFROM:+0200
TZOFFSETTO:+0100
TZNAME:CET
DTSTART:20241027T010000
END:STANDARD
END:VTIMEZONE
BEGIN:VEVENT
DTSTART;TZID=Europe/Berlin:20230111T180000
DTEND;TZID=Europe/Berlin:20230111T190000
DTSTAMP:20260425T154416
CREATED:20221129T191001Z
LAST-MODIFIED:20230110T212504Z
UID:18247-1673460000-1673463600@mercator-gymnasium.de
SUMMARY:Digitaler Elternabend IPads (EF-Q2)
DESCRIPTION:
URL:https://mercator-gymnasium.de/event/digitaler-elternabend-ipads-ef-q2/
END:VEVENT
BEGIN:VEVENT
DTSTART;TZID=Europe/Berlin:20230111T191500
DTEND;TZID=Europe/Berlin:20230111T201500
DTSTAMP:20260425T154416
CREATED:20221129T191001Z
LAST-MODIFIED:20230110T212504Z
UID:18248-1673464500-1673468100@mercator-gymnasium.de
SUMMARY:Digitaler Elternabend IPads (Jg. 6-9)
DESCRIPTION:
URL:https://mercator-gymnasium.de/event/digitaler-elternabend-ipads-jg-6-9/
END:VEVENT
END:VCALENDAR