BEGIN:VCALENDAR
VERSION:2.0
PRODID:-//Mercator-Gymnasium - ECPv6.15.20//NONSGML v1.0//EN
CALSCALE:GREGORIAN
METHOD:PUBLISH
X-ORIGINAL-URL:https://mercator-gymnasium.de
X-WR-CALDESC:Veranstaltungen für Mercator-Gymnasium
REFRESH-INTERVAL;VALUE=DURATION:PT1H
X-Robots-Tag:noindex
X-PUBLISHED-TTL:PT1H
BEGIN:VTIMEZONE
TZID:Europe/Berlin
BEGIN:DAYLIGHT
TZOFFSETFROM:+0100
TZOFFSETTO:+0200
TZNAME:CEST
DTSTART:20210328T010000
END:DAYLIGHT
BEGIN:STANDARD
TZOFFSETFROM:+0200
TZOFFSETTO:+0100
TZNAME:CET
DTSTART:20211031T010000
END:STANDARD
BEGIN:DAYLIGHT
TZOFFSETFROM:+0100
TZOFFSETTO:+0200
TZNAME:CEST
DTSTART:20220327T010000
END:DAYLIGHT
BEGIN:STANDARD
TZOFFSETFROM:+0200
TZOFFSETTO:+0100
TZNAME:CET
DTSTART:20221030T010000
END:STANDARD
BEGIN:DAYLIGHT
TZOFFSETFROM:+0100
TZOFFSETTO:+0200
TZNAME:CEST
DTSTART:20230326T010000
END:DAYLIGHT
BEGIN:STANDARD
TZOFFSETFROM:+0200
TZOFFSETTO:+0100
TZNAME:CET
DTSTART:20231029T010000
END:STANDARD
END:VTIMEZONE
BEGIN:VEVENT
DTSTART;TZID=Europe/Berlin:20220901T160000
DTEND;TZID=Europe/Berlin:20220901T172000
DTSTAMP:20260425T225948
CREATED:20220810T084118Z
LAST-MODIFIED:20220901T092550Z
UID:17294-1662048000-1662052800@mercator-gymnasium.de
SUMMARY:5er-Elterncafe
DESCRIPTION:
URL:https://mercator-gymnasium.de/event/5er-elterncafe-aufbau-1530-start-16-uhr/
END:VEVENT
BEGIN:VEVENT
DTSTART;TZID=Europe/Berlin:20220901T180000
DTEND;TZID=Europe/Berlin:20220901T200000
DTSTAMP:20260425T225948
CREATED:20220810T084118Z
LAST-MODIFIED:20220901T092550Z
UID:17295-1662055200-1662062400@mercator-gymnasium.de
SUMMARY:6er-Pflegschaften
DESCRIPTION:
URL:https://mercator-gymnasium.de/event/6er-pflegschaften/
END:VEVENT
END:VCALENDAR